BEGIN:VCALENDAR
VERSION:2.0
PRODID:-//PIANYC - ECPv5.12.4//NONSGML v1.0//EN
CALSCALE:GREGORIAN
METHOD:PUBLISH
X-WR-CALNAME:PIANYC
X-ORIGINAL-URL:https://www.pianyc.net
X-WR-CALDESC:Events for PIANYC
BEGIN:VTIMEZONE
TZID:America/New_York
BEGIN:DAYLIGHT
TZOFFSETFROM:-0500
TZOFFSETTO:-0400
TZNAME:EDT
DTSTART:20220313T070000
END:DAYLIGHT
BEGIN:STANDARD
TZOFFSETFROM:-0400
TZOFFSETTO:-0500
TZNAME:EST
DTSTART:20221106T060000
END:STANDARD
END:VTIMEZONE
BEGIN:VEVENT
DTSTART;TZID=America/New_York:20220811T200000
DTEND;TZID=America/New_York:20220811T230000
DTSTAMP:20260420T101150
CREATED:20220806T231942Z
LAST-MODIFIED:20220806T231942Z
UID:134330-1660248000-1660258800@www.pianyc.net
SUMMARY:Leslie Goshko\, at Good Judy
DESCRIPTION:Piano Karaoke every Thursday in The Blue Room! \n 
URL:https://www.pianyc.net/event/leslie-goshko-at-good-judy/
LOCATION:Good Judy\, 563 5th Avenue\, New York\, NY\, NY 11215\, United States
CATEGORIES:Live Musical Performance
ATTACH;FMTTYPE=image/jpeg:https://img.evbuc.com/https%3A%2F%2Fcdn.evbuc.com%2Fimages%2F248704489%2F480714172955%2F1%2Foriginal.20220316-143518?w=1000&auto=format%2Ccompress&q=75&sharp=10&rect=7%2C28%2C1050%2C525&s=5770fa04eb3a5344a57f09f7496b9d8d
GEO:40.665252;-73.9892404
X-APPLE-STRUCTURED-LOCATION;VALUE=URI;X-ADDRESS=Good Judy 563 5th Avenue New York NY NY 11215 United States;X-APPLE-RADIUS=500;X-TITLE=563 5th Avenue:geo:-73.9892404,40.665252
END:VEVENT
END:VCALENDAR