BEGIN:VCALENDAR
VERSION:2.0
PRODID:-//PIANYC - ECPv5.12.4//NONSGML v1.0//EN
CALSCALE:GREGORIAN
METHOD:PUBLISH
X-WR-CALNAME:PIANYC
X-ORIGINAL-URL:https://www.pianyc.net
X-WR-CALDESC:Events for PIANYC
BEGIN:VTIMEZONE
TZID:America/New_York
BEGIN:DAYLIGHT
TZOFFSETFROM:-0500
TZOFFSETTO:-0400
TZNAME:EDT
DTSTART:20230312T070000
END:DAYLIGHT
BEGIN:STANDARD
TZOFFSETFROM:-0400
TZOFFSETTO:-0500
TZNAME:EST
DTSTART:20231105T060000
END:STANDARD
END:VTIMEZONE
BEGIN:VEVENT
DTSTART;TZID=America/New_York:20230426T193000
DTEND;TZID=America/New_York:20230426T210000
DTSTAMP:20260420T115105
CREATED:20220919T104246Z
LAST-MODIFIED:20220919T104246Z
UID:138061-1682537400-1682542800@www.pianyc.net
SUMMARY:Les Arts Florissants at Carnegie Hall
DESCRIPTION:Performers\nLes Arts Florissants\nWilliam Christie\, Artistic Director\, Conductor\, and Organ \nProgram\n“Leçon de ténèbres du Mercredi Saint\,” H. 135\n“Charpentier Méditations pour le Carême\,” H. 380-389\n“Second répons après la seconde leçon du second nocturne du jeudi saint\,” H. 129\n“Leçon de ténèbres du Vendredi saint\,” H. 137
URL:https://www.pianyc.net/event/les-arts-florissants-at-carnegie-hall/
LOCATION:Carnegie Hall\, 881 Seventh Avenue\, New York\, NY\, 10019\, United States
CATEGORIES:Live Musical Performance
ATTACH;FMTTYPE=image/jpeg:https://carnegiehall.imgix.net:443/-/media/CarnegieHall/Images/Events/2022-2023-CH-Presents/2023-04-26-Les-Arts-Florissants.jpg
GEO:40.764938;-73.979897
X-APPLE-STRUCTURED-LOCATION;VALUE=URI;X-ADDRESS=Carnegie Hall 881 Seventh Avenue New York NY 10019 United States;X-APPLE-RADIUS=500;X-TITLE=881 Seventh Avenue:geo:-73.979897,40.764938
END:VEVENT
END:VCALENDAR