BEGIN:VCALENDAR
VERSION:2.0
PRODID:-//PIANYC - ECPv5.12.4//NONSGML v1.0//EN
CALSCALE:GREGORIAN
METHOD:PUBLISH
X-WR-CALNAME:PIANYC
X-ORIGINAL-URL:https://www.pianyc.net
X-WR-CALDESC:Events for PIANYC
BEGIN:VTIMEZONE
TZID:America/New_York
BEGIN:DAYLIGHT
TZOFFSETFROM:-0500
TZOFFSETTO:-0400
TZNAME:EDT
DTSTART:20240310T070000
END:DAYLIGHT
BEGIN:STANDARD
TZOFFSETFROM:-0400
TZOFFSETTO:-0500
TZNAME:EST
DTSTART:20241103T060000
END:STANDARD
END:VTIMEZONE
BEGIN:VEVENT
DTSTART;TZID=America/New_York:20241110T190000
DTEND;TZID=America/New_York:20241110T200000
DTSTAMP:20260420T083721
CREATED:20241108T011315Z
LAST-MODIFIED:20241108T011331Z
UID:173668-1731265200-1731268800@www.pianyc.net
SUMMARY:Klea Blackhurst "Everything the Traffic Will Allow" at Chelsea Table & Stage
DESCRIPTION:“Everything the Traffic Will Allow” is Klea Blackhurst’s loving tribute to the songs made famous by the quintessential stage personality Ethel Merman. Rather than a Merman imitation\, Klea offers a paean to the great Broadway legend that serves as a potent and happy reminder of Merman’s sheer\, undeniable importance to both the history of twentieth century entertainment and the iconic composers like Cole Porter\, Irving Berlin\, George Gershwin and Jerry Herman\, who wrote songs just for her. The engagement is a rare chance to experience Blackhurst’s crackling wit and powerful vocals as she performs her brilliant\, savvy valentine to one of American theatre’s greatest stars. \nFeaturing Michael Rice\, Piano; Ray Kilday\, Bass; Aaron Russell\, Drums
URL:https://www.pianyc.net/event/klea-blackhurst-everything-the-traffic-will-allow-at-chelsea-table-stage/
LOCATION:Chelsea Table & Stage\, Hilton Fashion District Hotel\, 152 W 26th St\, New York\, NY\, 10001\, United States
CATEGORIES:Live Musical Performance
ATTACH;FMTTYPE=image/jpeg:https://img.evbuc.com/https%3A%2F%2Fcdn.evbuc.com%2Fimages%2F819734899%2F571364745965%2F1%2Foriginal.20240802-234549?w=1000&auto=format%2Ccompress&q=75&sharp=10&rect=1%2C167%2C1012%2C506&s=d86fd3f046119e2effa0e9b97d97583d
GEO:40.7455256;-73.9937621
X-APPLE-STRUCTURED-LOCATION;VALUE=URI;X-ADDRESS=Chelsea Table & Stage Hilton Fashion District Hotel 152 W 26th St New York NY 10001 United States;X-APPLE-RADIUS=500;X-TITLE=Hilton Fashion District Hotel\, 152 W 26th St:geo:-73.9937621,40.7455256
END:VEVENT
END:VCALENDAR