BEGIN:VCALENDAR
VERSION:2.0
PRODID:-//PIANYC - ECPv5.12.4//NONSGML v1.0//EN
CALSCALE:GREGORIAN
METHOD:PUBLISH
X-WR-CALNAME:PIANYC
X-ORIGINAL-URL:https://www.pianyc.net
X-WR-CALDESC:Events for PIANYC
BEGIN:VTIMEZONE
TZID:America/New_York
BEGIN:DAYLIGHT
TZOFFSETFROM:-0500
TZOFFSETTO:-0400
TZNAME:EDT
DTSTART:20240310T070000
END:DAYLIGHT
BEGIN:STANDARD
TZOFFSETFROM:-0400
TZOFFSETTO:-0500
TZNAME:EST
DTSTART:20241103T060000
END:STANDARD
END:VTIMEZONE
BEGIN:VEVENT
DTSTART;TZID=America/New_York:20240118T193000
DTEND;TZID=America/New_York:20240118T210000
DTSTAMP:20260419T195401
CREATED:20230918T204444Z
LAST-MODIFIED:20230918T204444Z
UID:154975-1705606200-1705611600@www.pianyc.net
SUMMARY:Kirill Gerstein Solo Recital at Carnegie Hall
DESCRIPTION:Performer\nKirill Gerstein\, Piano \nProgram\nCHOPIN Polonaise-fantaisie in A-flat Major\nFAURÉ Nocturne No. 13 in B Minor\, Op. 119\nPOULENC Three Intermezzi\nLISZT Polonaise No. 2 in E Major\nR. SCHUMANN Faschingsschwank aus Wien\nGODOWSKY “Die Fledermaus” from Symphonic Metamorphoses on Themes by Johann Strauss
URL:https://www.pianyc.net/event/kirill-gerstein-solo-recital-at-carnegie-hall/
LOCATION:Carnegie Hall\, 881 Seventh Avenue\, New York\, NY\, 10019\, United States
CATEGORIES:Live Musical Performance
ATTACH;FMTTYPE=image/jpeg:https://carnegiehall.imgix.net:443/-/media/CarnegieHall/Images/Events/2023-2024-CH-Presents/2024-01-18-Kirill-Gerstein.jpg
GEO:40.764938;-73.979897
X-APPLE-STRUCTURED-LOCATION;VALUE=URI;X-ADDRESS=Carnegie Hall 881 Seventh Avenue New York NY 10019 United States;X-APPLE-RADIUS=500;X-TITLE=881 Seventh Avenue:geo:-73.979897,40.764938
END:VEVENT
END:VCALENDAR