BEGIN:VCALENDAR
VERSION:2.0
PRODID:-//PIANYC - ECPv5.12.4//NONSGML v1.0//EN
CALSCALE:GREGORIAN
METHOD:PUBLISH
X-WR-CALNAME:PIANYC
X-ORIGINAL-URL:https://www.pianyc.net
X-WR-CALDESC:Events for PIANYC
BEGIN:VTIMEZONE
TZID:America/New_York
BEGIN:DAYLIGHT
TZOFFSETFROM:-0500
TZOFFSETTO:-0400
TZNAME:EDT
DTSTART:20230312T070000
END:DAYLIGHT
BEGIN:STANDARD
TZOFFSETFROM:-0400
TZOFFSETTO:-0500
TZNAME:EST
DTSTART:20231105T060000
END:STANDARD
END:VTIMEZONE
BEGIN:VEVENT
DTSTART;TZID=America/New_York:20231019T200000
DTEND;TZID=America/New_York:20231019T213000
DTSTAMP:20260420T084707
CREATED:20230623T122350Z
LAST-MODIFIED:20230623T122350Z
UID:150482-1697745600-1697751000@www.pianyc.net
SUMMARY:Khatia Buniatishvili Solo Recital at Carnegie Hall
DESCRIPTION:Performer\nKhatia Buniatishvili\, Piano \nThe irrepressibly virtuosic Khatia Buniatishvili returns to Carnegie Hall for her highly anticipated debut in Stern Auditorium / Perelman Stage. Buniatishvili has earned legions of fans with her “fantastic fingers\, a charismatic stage presence\, a warm\, glowing tone and strongly expressed ideas” (Gramophone)\, and her performances always boast fleet-fingered fireworks. With multiple works by Liszt\, two Beethoven piano sonatas\, and Stravinsky’s Three Movements from Pétrouchka on the program (the latter composed for pianist Arthur Rubinstein)\, this concert is an excellent recommendation for anyone interested in essential piano repertoire. \nProgram\nLISZT Prelude and Fugue in A Minor (after J. S. Bach)\nBEETHOVEN Piano Sonata No. 17 in D Minor\, Op. 31\, No. 2\, “The Tempest”\nBEETHOVEN Piano Sonata No. 23 in F Minor\, Op. 57\, “Appassionata”\nLISZT “Ständchen\,” S. 560 (after Schubert)\nLISZT “Gretchen am Spinnrade\,” S. 558\, No. 8\, from 12 Lieder von Franz Schubert\nLISZT “Erlkönig\,” S. 558\, No. 4\, from 12 Lieder von Franz Schubert\nLISZT Hungarian Rhapsody No. 6 in D-flat Major\nSTRAVINSKY Three Movements from Pétrouchka
URL:https://www.pianyc.net/event/khatia-buniatishvili-solo-recital-at-carnegie-hall/
LOCATION:Carnegie Hall\, 881 Seventh Avenue\, New York\, NY\, 10019\, United States
CATEGORIES:Live Musical Performance
ATTACH;FMTTYPE=image/jpeg:https://carnegiehall.imgix.net:443/-/media/CarnegieHall/Images/Events/2022-2023-CH-Presents/2023-05-11-Khatia-Buniatishvili.jpg
GEO:40.764938;-73.979897
X-APPLE-STRUCTURED-LOCATION;VALUE=URI;X-ADDRESS=Carnegie Hall 881 Seventh Avenue New York NY 10019 United States;X-APPLE-RADIUS=500;X-TITLE=881 Seventh Avenue:geo:-73.979897,40.764938
END:VEVENT
END:VCALENDAR