BEGIN:VCALENDAR
VERSION:2.0
PRODID:-//PIANYC - ECPv5.12.4//NONSGML v1.0//EN
CALSCALE:GREGORIAN
METHOD:PUBLISH
X-WR-CALNAME:PIANYC
X-ORIGINAL-URL:https://www.pianyc.net
X-WR-CALDESC:Events for PIANYC
BEGIN:VTIMEZONE
TZID:America/New_York
BEGIN:DAYLIGHT
TZOFFSETFROM:-0500
TZOFFSETTO:-0400
TZNAME:EDT
DTSTART:20220313T070000
END:DAYLIGHT
BEGIN:STANDARD
TZOFFSETFROM:-0400
TZOFFSETTO:-0500
TZNAME:EST
DTSTART:20221106T060000
END:STANDARD
END:VTIMEZONE
BEGIN:VEVENT
DTSTART;TZID=America/New_York:20220922T200000
DTEND;TZID=America/New_York:20220922T213000
DTSTAMP:20260420T105743
CREATED:20220803T013134Z
LAST-MODIFIED:20220803T015758Z
UID:133199-1663876800-1663882200@www.pianyc.net
SUMMARY:Keyboard Conversations with Jeffrey Siegel the Power and Passion of Beethoven\, at Scandinavia House
DESCRIPTION:Internationally acclaimed pianist Jeffrey Siegel returns for his ever-popular Keyboard Conversations® series at Scandinavia House. Each evening comprises an informal commentary on the music and its composers\, a full performance of each work\, and a short Q & A session. The accessible format enables audiences to build an understanding of classical music whether newcomer or seasoned listener. \nJeffrey Siegel’s opening night is dedicated to Beethoven’s “Moonlight Sonata” and the Sonata Opus 110\, written after deafness engulfed the talented composer. \nKeyboard Conversations® will continue with “Musical Valentines” on January 26; “Immortal Impromptus” on March 9; and “A Musical Kinship” on April 27\, 2023. \nTickets to this event must be purchased in advance online at the link above. All attendees are required to follow all Scandinavia House safety protocols\, including wearing masks in Victor Borge Hall and observing social distancing rules in signage. Please read our full safety protocols here. ASF is committed to providing an environment free from harassment or discrimination in the treatment of individuals and does not permit harassment or discrimination in any forms (whether racial\, sexual\, religious\, orientation or others) within our building. Any visitors who do not abide by these policies will be required to leave. Read our our Non-Discrimination Policy here.
URL:https://www.pianyc.net/event/keyboard-conversations-with-jeffrey-siegel-the-power-and-passion-of-beethoven-at-scandinavia-house/
LOCATION:Scandinavia House\, 58 Park Avenue\, New York\, NY\, 10016\, United States
CATEGORIES:Live Musical Performance
ATTACH;FMTTYPE=image/jpeg:https://www.scandinaviahouse.org/wp-content/uploads/2021/07/OW_Photo-Jeffrey-Siegel-at-the-piano-1.jpg
GEO:40.7494353;-73.9800399
X-APPLE-STRUCTURED-LOCATION;VALUE=URI;X-ADDRESS=Scandinavia House 58 Park Avenue New York NY 10016 United States;X-APPLE-RADIUS=500;X-TITLE=58 Park Avenue:geo:-73.9800399,40.7494353
END:VEVENT
END:VCALENDAR