BEGIN:VCALENDAR
VERSION:2.0
PRODID:-//PIANYC - ECPv5.12.4//NONSGML v1.0//EN
CALSCALE:GREGORIAN
METHOD:PUBLISH
X-WR-CALNAME:PIANYC
X-ORIGINAL-URL:https://www.pianyc.net
X-WR-CALDESC:Events for PIANYC
BEGIN:VTIMEZONE
TZID:America/New_York
BEGIN:DAYLIGHT
TZOFFSETFROM:-0500
TZOFFSETTO:-0400
TZNAME:EDT
DTSTART:20220313T070000
END:DAYLIGHT
BEGIN:STANDARD
TZOFFSETFROM:-0400
TZOFFSETTO:-0500
TZNAME:EST
DTSTART:20221106T060000
END:STANDARD
END:VTIMEZONE
BEGIN:VEVENT
DTSTART;TZID=America/New_York:20220819T193000
DTEND;TZID=America/New_York:20220819T203000
DTSTAMP:20260421T065855
CREATED:20220810T000614Z
LAST-MODIFIED:20220810T000724Z
UID:134801-1660937400-1660941000@www.pianyc.net
SUMMARY:Ken Peplowski\, Rossano Sportiello and Kevin Dorn at Mezzrow
DESCRIPTION:Performers \nKen Peplowski / Clarinet\nRossano Sportiello / Piano\nKevin Dorn / Drums \nEven before the French institution\, L’Académie du Jazz recognized his work on solo piano as the Prix du Jazz Classique 2005 or magazines such as Jazz Classique and Jazz Hot printed rave reviews about him\, 32-year old pianist Rossano Sportiello\, was an emerging talent on the international jazz scene. A native of Vigevano\, Italy\, Rossano graduated from the Italian Conservatory and began his musical career at the age of 18 by joining the Milano Jazz Gang\, one of Europe’s historic bands. An accomplished stride pianist\, Rossano grew up listening to Jelly Roll Morton\, Fats Waller and Ralph Sutton\, whom he met shortly before the elder’s death. However\, his pianistic style also pays homage to the swing and bebop eras. He cites Earl Hines\, Teddy Wilson\, Bud Powell\,Tommy Flanagan\, Ellis Larkins\, Red Garland\, Wynton Kelly and Bill Evans as a few of his influences.His mentor\, bebop pianist Barry Harris\, says Rossano makes me smile when he plays.
URL:https://www.pianyc.net/event/ken-peplowski-rossano-sportiello-and-kevin-dorn-at-mezzrow/2022-08-19/
LOCATION:Mezzrow\, 163 W 10th St\, New York\, NY\, 10014\, United States
CATEGORIES:Live Musical Performance
ATTACH;FMTTYPE=image/jpeg:https://www.pianyc.net/wp-content/uploads/2022/08/rossano.jpeg
GEO:40.7345655;-74.0019412
X-APPLE-STRUCTURED-LOCATION;VALUE=URI;X-ADDRESS=Mezzrow 163 W 10th St New York NY 10014 United States;X-APPLE-RADIUS=500;X-TITLE=163 W 10th St:geo:-74.0019412,40.7345655
END:VEVENT
END:VCALENDAR