BEGIN:VCALENDAR
VERSION:2.0
PRODID:-//PIANYC - ECPv5.12.4//NONSGML v1.0//EN
CALSCALE:GREGORIAN
METHOD:PUBLISH
X-WR-CALNAME:PIANYC
X-ORIGINAL-URL:https://www.pianyc.net
X-WR-CALDESC:Events for PIANYC
BEGIN:VTIMEZONE
TZID:America/New_York
BEGIN:DAYLIGHT
TZOFFSETFROM:-0500
TZOFFSETTO:-0400
TZNAME:EDT
DTSTART:20250309T070000
END:DAYLIGHT
BEGIN:STANDARD
TZOFFSETFROM:-0400
TZOFFSETTO:-0500
TZNAME:EST
DTSTART:20251102T060000
END:STANDARD
END:VTIMEZONE
BEGIN:VEVENT
DTSTART;TZID=America/New_York:20250810T173000
DTEND;TZID=America/New_York:20250810T173000
DTSTAMP:20260420T053724
CREATED:20250615T165754Z
LAST-MODIFIED:20250615T165754Z
UID:181741-1754847000-1754847000@www.pianyc.net
SUMMARY:Kelly Green Trio at Birdland
DESCRIPTION:Steinway Artist Kelly Green is one of New York City’s most exciting new jazz artists\, “well worth discovering” (NYC Jazz Record)! A true triple threat—pianist\, vocalist\, and composer—Green brings a unique approach to her music\, captivating audiences of jazz aficionados and casual listeners around the U.S. and the world as a 2025 Jazz Road Artist. \nKnown for her self-accompaniment\, she and her band perform intricate\, lyric-driven arrangements of jazz standards and auspicious “outside-the-box” original compositions. With her internationally touring band\, she curates eclectic sets that bridge eras and genres—featuring original music\, arrangements of songs from the Great American Songbook\, works by Mulgrew Miller\, Duke Ellington\, Wayne Shorter and much more. \nShe has shared the stage with musical visionaries such as Christian McBride\, George Coleman\, and Billy Hart\, and has appeared at venues and festivals including The Kennedy Center\, Dizzy’s Club\, Birdland Theater\, Blue Note\, DC Jazz Festival\, and the Jacksonville Jazz Festival.
URL:https://www.pianyc.net/event/kelly-green-trio-at-birdland/
LOCATION:Birdland\, 315 West 44th Street\, New York\, NY\, 10036\, United States
CATEGORIES:Live Musical Performance
ATTACH;FMTTYPE=image/jpeg:https://i.ticketweb.com/i/00/12/56/58/34_Original.jpg?v=2
GEO:40.759194;-73.9898
X-APPLE-STRUCTURED-LOCATION;VALUE=URI;X-ADDRESS=Birdland 315 West 44th Street New York NY 10036 United States;X-APPLE-RADIUS=500;X-TITLE=315 West 44th Street:geo:-73.9898,40.759194
END:VEVENT
END:VCALENDAR