BEGIN:VCALENDAR
VERSION:2.0
PRODID:-//PIANYC - ECPv5.12.4//NONSGML v1.0//EN
CALSCALE:GREGORIAN
METHOD:PUBLISH
X-WR-CALNAME:PIANYC
X-ORIGINAL-URL:https://www.pianyc.net
X-WR-CALDESC:Events for PIANYC
BEGIN:VTIMEZONE
TZID:America/New_York
BEGIN:DAYLIGHT
TZOFFSETFROM:-0500
TZOFFSETTO:-0400
TZNAME:EDT
DTSTART:20250309T070000
END:DAYLIGHT
BEGIN:STANDARD
TZOFFSETFROM:-0400
TZOFFSETTO:-0500
TZNAME:EST
DTSTART:20251102T060000
END:STANDARD
END:VTIMEZONE
BEGIN:VEVENT
DTSTART;TZID=America/New_York:20250625T200000
DTEND;TZID=America/New_York:20250625T200000
DTSTAMP:20260421T113734
CREATED:20250615T181853Z
LAST-MODIFIED:20250615T181853Z
UID:181808-1750881600-1750881600@www.pianyc.net
SUMMARY:Julius Rodriguez at Blue Note
DESCRIPTION:Show Times:\nJun 23rd\, Jun 24th and June 25th at 8pm and 10.30pm \nAbout:\nYou can find Julius Rodriguez in many places. You could walk into a packed jazz haunt and bear witness to him behind the piano with energy practically surging from his fingers through the room. You might scroll up on social media and catch him alternating from drums to bass to guitar at the speed of a jump cut. You may also step onto festival grounds and see him on stage either solo or accompanying another likeminded visionary\, jamming like his life depends on it. No matter where\, the New York-born and Los Angeles-based multi-instrumentalist\, composer\, and producer electrifies any lane. By doing so\, he also transcends perceived boundaries between genres and styles\, redefining the music to mirror his own fluid creative inclinations and delivering a sound that’s solely his alone.
URL:https://www.pianyc.net/event/julius-rodriguez-at-blue-note/2025-06-25/
LOCATION:Blue Note\, 131 W 3rd St\, New York\, NY\, 10012\, United States
CATEGORIES:Live Musical Performance
ATTACH;FMTTYPE=image/jpeg:https://i.ticketweb.com/i/00/12/88/48/23_Edp.jpg?v=7
GEO:40.7309369;-74.0006335
X-APPLE-STRUCTURED-LOCATION;VALUE=URI;X-ADDRESS=Blue Note 131 W 3rd St New York NY 10012 United States;X-APPLE-RADIUS=500;X-TITLE=131 W 3rd St:geo:-74.0006335,40.7309369
END:VEVENT
END:VCALENDAR