BEGIN:VCALENDAR
VERSION:2.0
PRODID:-//PIANYC - ECPv5.12.4//NONSGML v1.0//EN
CALSCALE:GREGORIAN
METHOD:PUBLISH
X-WR-CALNAME:PIANYC
X-ORIGINAL-URL:https://www.pianyc.net
X-WR-CALDESC:Events for PIANYC
BEGIN:VTIMEZONE
TZID:America/New_York
BEGIN:DAYLIGHT
TZOFFSETFROM:-0500
TZOFFSETTO:-0400
TZNAME:EDT
DTSTART:20260308T070000
END:DAYLIGHT
BEGIN:STANDARD
TZOFFSETFROM:-0400
TZOFFSETTO:-0500
TZNAME:EST
DTSTART:20261101T060000
END:STANDARD
END:VTIMEZONE
BEGIN:VEVENT
DTSTART;TZID=America/New_York:20260123T193000
DTEND;TZID=America/New_York:20260123T210000
DTSTAMP:20260423T074151
CREATED:20250623T001621Z
LAST-MODIFIED:20250626T204405Z
UID:182728-1769196600-1769202000@www.pianyc.net
SUMMARY:Julia Bullock\, Soprano; Seth Parker Woods\, Cello; Conor Hanick\, Piano\, at 92nd Street Y
DESCRIPTION:Three of music’s most forward-thinking and genre-blurring young stars – Grammy-winning vocal superstar Julia Bullock\, renowned cellist and musical explorer Seth Parker Woods\, and acclaimed pianist Conor Hanick – join with their compelling new collaborative program. \nThe artists open with the premiere of a new work and 92NY co-commission by the brilliant Pulitzer Prize-winning composer Tania León. Also on the program: André Previn’sFour Songs for Soprano\, Cello\, and Piano\, Previn’s song cycle set to poems by Toni Morrison\, and the follow up to his acclaimedHoney and Rue; George Walker’s Cello Sonata\, a work Woods has championed and called “a lesser-known masterpiece;” selections from John Tavener’s hauntingAkhmatova Songs\, music by Ravel\, and songs by Nina Simone. Individually and together\, these artists are presenting music and perspectives that take listeners on wide-ranging journeys. Join them.
URL:https://www.pianyc.net/event/julia-bullock-soprano-seth-parker-woods-cello-conor-hanick-piano-at-92nd-street-y/
LOCATION:92nd Street Y\, 1395 Lexington Ave\, New York\, NY\, 10128\, United States
CATEGORIES:Live Musical Performance
ATTACH;FMTTYPE=image/jpeg:https://ny92-stage.imgix.net/92ny/arts%20and%20culture/concerts/events/bullock-woods-hanick.jpg
GEO:40.7829338;-73.9525147
X-APPLE-STRUCTURED-LOCATION;VALUE=URI;X-ADDRESS=92nd Street Y 1395 Lexington Ave New York NY 10128 United States;X-APPLE-RADIUS=500;X-TITLE=1395 Lexington Ave:geo:-73.9525147,40.7829338
END:VEVENT
END:VCALENDAR