BEGIN:VCALENDAR
VERSION:2.0
PRODID:-//PIANYC - ECPv5.12.4//NONSGML v1.0//EN
CALSCALE:GREGORIAN
METHOD:PUBLISH
X-WR-CALNAME:PIANYC
X-ORIGINAL-URL:https://www.pianyc.net
X-WR-CALDESC:Events for PIANYC
BEGIN:VTIMEZONE
TZID:America/New_York
BEGIN:DAYLIGHT
TZOFFSETFROM:-0500
TZOFFSETTO:-0400
TZNAME:EDT
DTSTART:20240310T070000
END:DAYLIGHT
BEGIN:STANDARD
TZOFFSETFROM:-0400
TZOFFSETTO:-0500
TZNAME:EST
DTSTART:20241103T060000
END:STANDARD
END:VTIMEZONE
BEGIN:VEVENT
DTSTART;TZID=America/New_York:20241217T200000
DTEND;TZID=America/New_York:20241217T213000
DTSTAMP:20260423T091308
CREATED:20241104T012601Z
LAST-MODIFIED:20241104T012601Z
UID:173494-1734465600-1734471000@www.pianyc.net
SUMMARY:Juilliard Student Recital: Tianyu Wang\, Trumpet with Collaborative Piano
DESCRIPTION:Tianyu Wang\, Trumpet \nVenue\nPaul Hall
URL:https://www.pianyc.net/event/juilliard-student-recital-tianyu-wang-trumpet-with-collaborative-piano/
LOCATION:Juilliard School\, 155 W 65th St\, Street Level\, New York\, NY\, 10023\, United States
CATEGORIES:Live Musical Performance
ATTACH;FMTTYPE=image/jpeg:https://www.pmf.or.jp/media/027/202404/mode3_w480_h480-76_Tianyu_Wang_tp.jpg
GEO:40.7769059;-73.9800645
X-APPLE-STRUCTURED-LOCATION;VALUE=URI;X-ADDRESS=Juilliard School 155 W 65th St Street Level New York NY 10023 United States;X-APPLE-RADIUS=500;X-TITLE=155 W 65th St\, Street Level:geo:-73.9800645,40.7769059
END:VEVENT
END:VCALENDAR