BEGIN:VCALENDAR
VERSION:2.0
PRODID:-//PIANYC - ECPv5.12.4//NONSGML v1.0//EN
CALSCALE:GREGORIAN
METHOD:PUBLISH
X-WR-CALNAME:PIANYC
X-ORIGINAL-URL:https://www.pianyc.net
X-WR-CALDESC:Events for PIANYC
BEGIN:VTIMEZONE
TZID:America/New_York
BEGIN:DAYLIGHT
TZOFFSETFROM:-0500
TZOFFSETTO:-0400
TZNAME:EDT
DTSTART:20260308T070000
END:DAYLIGHT
BEGIN:STANDARD
TZOFFSETFROM:-0400
TZOFFSETTO:-0500
TZNAME:EST
DTSTART:20261101T060000
END:STANDARD
END:VTIMEZONE
BEGIN:VEVENT
DTSTART;TZID=America/New_York:20260316T200000
DTEND;TZID=America/New_York:20260316T213000
DTSTAMP:20260420T052650
CREATED:20251201T014553Z
LAST-MODIFIED:20251210T041428Z
UID:193465-1773691200-1773696600@www.pianyc.net
SUMMARY:Juilliard Student Recital: Luna Seongeun Park\, Soprano with Collaborative Piano
DESCRIPTION:Luna Seongeun Park\, Soprano \nVenue \nMorse Hall \nAdmission \nFree; no tickets required
URL:https://www.pianyc.net/event/juilliard-student-recital-luna-seongeun-park-soprano-with-collaborative-piano/
LOCATION:Juilliard School\, 155 W 65th St\, Street Level\, New York\, NY\, 10023\, United States
CATEGORIES:Live Musical Performance
ATTACH;FMTTYPE=image/jpeg:https://external-content.duckduckgo.com/iu/?u=https%3A%2F%2Fi.ytimg.com%2Fvi%2FCKynPeQkW1k%2Fmaxresdefault.jpg%3Fsqp%3D-oaymwEmCIAKENAF8quKqQMa8AEB-AH-CYAC0AWKAgwIABABGGUgTihJMA8%3D%26rs%3DAOn4CLAV8Pw4OjxBZWGcjadRktyZfCbm7w&f=1&nofb=1&ipt=3dcd352bb3196763ac482ef04ec4c6e0ba13ee48e100bb2d6f6930a1ca5bcfef
GEO:40.7769059;-73.9800645
X-APPLE-STRUCTURED-LOCATION;VALUE=URI;X-ADDRESS=Juilliard School 155 W 65th St Street Level New York NY 10023 United States;X-APPLE-RADIUS=500;X-TITLE=155 W 65th St\, Street Level:geo:-73.9800645,40.7769059
END:VEVENT
END:VCALENDAR