BEGIN:VCALENDAR
VERSION:2.0
PRODID:-//PIANYC - ECPv5.12.4//NONSGML v1.0//EN
CALSCALE:GREGORIAN
METHOD:PUBLISH
X-WR-CALNAME:PIANYC
X-ORIGINAL-URL:https://www.pianyc.net
X-WR-CALDESC:Events for PIANYC
BEGIN:VTIMEZONE
TZID:America/New_York
BEGIN:DAYLIGHT
TZOFFSETFROM:-0500
TZOFFSETTO:-0400
TZNAME:EDT
DTSTART:20260308T070000
END:DAYLIGHT
BEGIN:STANDARD
TZOFFSETFROM:-0400
TZOFFSETTO:-0500
TZNAME:EST
DTSTART:20261101T060000
END:STANDARD
END:VTIMEZONE
BEGIN:VEVENT
DTSTART;TZID=America/New_York:20260316T173000
DTEND;TZID=America/New_York:20260316T190000
DTSTAMP:20260420T065437
CREATED:20251201T014538Z
LAST-MODIFIED:20251210T041416Z
UID:193463-1773682200-1773687600@www.pianyc.net
SUMMARY:Juilliard Student Recital: Kuan Yu Huang\, Cello with Collaborative Piano
DESCRIPTION:Kuan Yu Huang\, Cello \nVenue \nMorse Hall \nAdmission \nFree; no tickets required
URL:https://www.pianyc.net/event/juilliard-student-recital-kuan-yu-huang-cello-with-collaborative-piano-2/
LOCATION:Juilliard School\, 155 W 65th St\, Street Level\, New York\, NY\, 10023\, United States
CATEGORIES:Live Musical Performance
ATTACH;FMTTYPE=image/jpeg:https://external-content.duckduckgo.com/iu/?u=https%3A%2F%2Fi.ytimg.com%2Fvi%2FV5U8nZFdI3M%2Fmaxresdefault.jpg&f=1&nofb=1&ipt=8d947b3b390e73c7d1c5403744f1c1f3b94ef6cb675dc0a8b6ab11c6653caa15
GEO:40.7769059;-73.9800645
X-APPLE-STRUCTURED-LOCATION;VALUE=URI;X-ADDRESS=Juilliard School 155 W 65th St Street Level New York NY 10023 United States;X-APPLE-RADIUS=500;X-TITLE=155 W 65th St\, Street Level:geo:-73.9800645,40.7769059
END:VEVENT
END:VCALENDAR