BEGIN:VCALENDAR
VERSION:2.0
PRODID:-//PIANYC - ECPv5.12.4//NONSGML v1.0//EN
CALSCALE:GREGORIAN
METHOD:PUBLISH
X-WR-CALNAME:PIANYC
X-ORIGINAL-URL:https://www.pianyc.net
X-WR-CALDESC:Events for PIANYC
BEGIN:VTIMEZONE
TZID:America/New_York
BEGIN:DAYLIGHT
TZOFFSETFROM:-0500
TZOFFSETTO:-0400
TZNAME:EDT
DTSTART:20250309T070000
END:DAYLIGHT
BEGIN:STANDARD
TZOFFSETFROM:-0400
TZOFFSETTO:-0500
TZNAME:EST
DTSTART:20251102T060000
END:STANDARD
END:VTIMEZONE
BEGIN:VEVENT
DTSTART;TZID=America/New_York:20250108T120000
DTEND;TZID=America/New_York:20250108T133000
DTSTAMP:20260422T121717
CREATED:20241222T170400Z
LAST-MODIFIED:20250101T191609Z
UID:175576-1736337600-1736343000@www.pianyc.net
SUMMARY:Juilliard Student Recital: Isaac Parlin\, Piano
DESCRIPTION:Juilliard Station: Isaac Parlin\, Piano \nProgram \nIsaac Parlin\, Piano \nLISZT From Années de pèlerinage\, Troisième années\, S. 163\nII. Aux cyprès de la Villa d’Este I: Thrénodie\nIII. Aux cyprès de la Villa d’Este II: Thrénodie\nIV. Les jeux d’eaux à la Villa d’Este\nVII. Sursum corda \nDEBUSSY Images\, Book 1\, L. 110\nReflets dans l’eau\nHommage à Rameau\nMouvement \nVenue\nJuilliard Station
URL:https://www.pianyc.net/event/juilliard-student-recital-juilliard-station-isaac-parlin-piano/
LOCATION:Juilliard School\, 155 W 65th St\, Street Level\, New York\, NY\, 10023\, United States
CATEGORIES:Live Musical Performance
ATTACH;FMTTYPE=image/jpeg:https://encrypted-tbn0.gstatic.com/images?q=tbn:ANd9GcQh2P2-eWOvEIIhjSoZie3nR7fQA9TpHyYRSA&s
GEO:40.7769059;-73.9800645
X-APPLE-STRUCTURED-LOCATION;VALUE=URI;X-ADDRESS=Juilliard School 155 W 65th St Street Level New York NY 10023 United States;X-APPLE-RADIUS=500;X-TITLE=155 W 65th St\, Street Level:geo:-73.9800645,40.7769059
END:VEVENT
END:VCALENDAR