BEGIN:VCALENDAR
VERSION:2.0
PRODID:-//PIANYC - ECPv5.12.4//NONSGML v1.0//EN
CALSCALE:GREGORIAN
METHOD:PUBLISH
X-WR-CALNAME:PIANYC
X-ORIGINAL-URL:https://www.pianyc.net
X-WR-CALDESC:Events for PIANYC
BEGIN:VTIMEZONE
TZID:America/New_York
BEGIN:DAYLIGHT
TZOFFSETFROM:-0500
TZOFFSETTO:-0400
TZNAME:EDT
DTSTART:20240310T070000
END:DAYLIGHT
BEGIN:STANDARD
TZOFFSETFROM:-0400
TZOFFSETTO:-0500
TZNAME:EST
DTSTART:20241103T060000
END:STANDARD
END:VTIMEZONE
BEGIN:VEVENT
DTSTART;TZID=America/New_York:20240321T150000
DTEND;TZID=America/New_York:20240321T163000
DTSTAMP:20260420T070013
CREATED:20231114T194940Z
LAST-MODIFIED:20231114T194940Z
UID:157310-1711033200-1711038600@www.pianyc.net
SUMMARY:Juilliard Student Recital: Johannah Carmona\, Viola with Collaborative Piano
DESCRIPTION:Johannah Carmona\, Viola \nVenue\nMorse Hall
URL:https://www.pianyc.net/event/juilliard-student-recital-johannah-carmona-viola-with-collaborative-piano/
LOCATION:Juilliard School\, 155 W 65th St\, Street Level\, New York\, NY\, 10023\, United States
CATEGORIES:Live Musical Performance
ATTACH;FMTTYPE=image/jpeg:https://static.wixstatic.com/media/470135_56530e4318834094ba277cc6a953c93cf000.jpg/v1/fill/w_320,h_424,al_c,q_80,usm_0.33_1.00_0.00,enc_auto/470135_56530e4318834094ba277cc6a953c93cf000.jpg
GEO:40.7769059;-73.9800645
X-APPLE-STRUCTURED-LOCATION;VALUE=URI;X-ADDRESS=Juilliard School 155 W 65th St Street Level New York NY 10023 United States;X-APPLE-RADIUS=500;X-TITLE=155 W 65th St\, Street Level:geo:-73.9800645,40.7769059
END:VEVENT
END:VCALENDAR