BEGIN:VCALENDAR
VERSION:2.0
PRODID:-//PIANYC - ECPv5.12.4//NONSGML v1.0//EN
CALSCALE:GREGORIAN
METHOD:PUBLISH
X-WR-CALNAME:PIANYC
X-ORIGINAL-URL:https://www.pianyc.net
X-WR-CALDESC:Events for PIANYC
BEGIN:VTIMEZONE
TZID:America/New_York
BEGIN:DAYLIGHT
TZOFFSETFROM:-0500
TZOFFSETTO:-0400
TZNAME:EDT
DTSTART:20260308T070000
END:DAYLIGHT
BEGIN:STANDARD
TZOFFSETFROM:-0400
TZOFFSETTO:-0500
TZNAME:EST
DTSTART:20261101T060000
END:STANDARD
END:VTIMEZONE
BEGIN:VEVENT
DTSTART;TZID=America/New_York:20260412T150000
DTEND;TZID=America/New_York:20260412T163000
DTSTAMP:20260421T081626
CREATED:20260306T021928Z
LAST-MODIFIED:20260313T110514Z
UID:198271-1776006000-1776011400@www.pianyc.net
SUMMARY:Juilliard Student Recital: Fantine Douilly\, Soprano with Collaborative Piano
DESCRIPTION:Fantine DOUILLY\, Soprano \nFantine Douilly is currently completing a Master’s Degree in Vocal Arts at the Juilliard School in New York under the guidance of Darrell Babidge. Hailing from Liévin in northern France\, she began her musical journey with percussion and saxophone before embracing Opera while graduating from Sciences Po Lille. \nPrior to her studies at The Juilliard School\, Fantine worked at the heart of several major cultural institutions\, including the regional branch of the Musée du Louvre in Lens and the French extension of the VOCES8 Foundation. These experiences offered her a gateway into the intersection of international relations\, public policy and the performing arts\, equipping her with valuable skills in artistic project management and cultural leadership. There\, she advocated for greater accessibility to the arts across underprivileged communities in Northern France and beyond. \nStraddling diverse styles and musical worlds\, Fantine has developed an eclectic and expressive approach—from bel canto to contemporary music—marked by a distinctive and captivating stage presence. Through her work\, she aims to uphold the essence of opera — artistry\, individuality\, and emotional authenticity — while advocating for its deeper values: empathy\, human connection\, and the power of music to inspire change. \nVenue \nMorse Hall \nAdmission \nFree; no tickets required
URL:https://www.pianyc.net/event/juilliard-student-recital-fantine-douilly-soprano-with-collaborative-piano/
LOCATION:Juilliard School\, 155 W 65th St\, Street Level\, New York\, NY\, 10023\, United States
CATEGORIES:Live Musical Performance
ATTACH;FMTTYPE=image/jpeg:https://fantineoftheopera.com/wp-content/uploads/2025/10/IMG_0021-e1760785147198.jpeg
GEO:40.7769059;-73.9800645
X-APPLE-STRUCTURED-LOCATION;VALUE=URI;X-ADDRESS=Juilliard School 155 W 65th St Street Level New York NY 10023 United States;X-APPLE-RADIUS=500;X-TITLE=155 W 65th St\, Street Level:geo:-73.9800645,40.7769059
END:VEVENT
END:VCALENDAR