BEGIN:VCALENDAR
VERSION:2.0
PRODID:-//PIANYC - ECPv5.12.4//NONSGML v1.0//EN
CALSCALE:GREGORIAN
METHOD:PUBLISH
X-WR-CALNAME:PIANYC
X-ORIGINAL-URL:https://www.pianyc.net
X-WR-CALDESC:Events for PIANYC
BEGIN:VTIMEZONE
TZID:America/New_York
BEGIN:DAYLIGHT
TZOFFSETFROM:-0500
TZOFFSETTO:-0400
TZNAME:EDT
DTSTART:20240310T070000
END:DAYLIGHT
BEGIN:STANDARD
TZOFFSETFROM:-0400
TZOFFSETTO:-0500
TZNAME:EST
DTSTART:20241103T060000
END:STANDARD
END:VTIMEZONE
BEGIN:VEVENT
DTSTART;TZID=America/New_York:20240318T173000
DTEND;TZID=America/New_York:20240318T190000
DTSTAMP:20260421T063501
CREATED:20231114T000644Z
LAST-MODIFIED:20231114T000644Z
UID:157285-1710783000-1710788400@www.pianyc.net
SUMMARY:Juilliard Student Recital: Deurim Jung\, Violin with Collaborative Piano
DESCRIPTION:Deurim Jung\, Violin \nVenue\nMorse Hall
URL:https://www.pianyc.net/event/juilliard-student-recital-deurim-jung-violin-with-collaborative-piano/
LOCATION:Juilliard School\, 155 W 65th St\, Street Level\, New York\, NY\, 10023\, United States
CATEGORIES:Live Musical Performance
ATTACH;FMTTYPE=image/jpeg:https://image.pbs.org/video-assets/GSpVbbe-asset-mezzanine-16x9-z4ghHJ6.jpg?focalcrop=1200x630x50x10&format=auto
GEO:40.7769059;-73.9800645
X-APPLE-STRUCTURED-LOCATION;VALUE=URI;X-ADDRESS=Juilliard School 155 W 65th St Street Level New York NY 10023 United States;X-APPLE-RADIUS=500;X-TITLE=155 W 65th St\, Street Level:geo:-73.9800645,40.7769059
END:VEVENT
END:VCALENDAR