BEGIN:VCALENDAR
VERSION:2.0
PRODID:-//PIANYC - ECPv5.12.4//NONSGML v1.0//EN
CALSCALE:GREGORIAN
METHOD:PUBLISH
X-WR-CALNAME:PIANYC
X-ORIGINAL-URL:https://www.pianyc.net
X-WR-CALDESC:Events for PIANYC
BEGIN:VTIMEZONE
TZID:America/New_York
BEGIN:DAYLIGHT
TZOFFSETFROM:-0500
TZOFFSETTO:-0400
TZNAME:EDT
DTSTART:20230312T070000
END:DAYLIGHT
BEGIN:STANDARD
TZOFFSETFROM:-0400
TZOFFSETTO:-0500
TZNAME:EST
DTSTART:20231105T060000
END:STANDARD
END:VTIMEZONE
BEGIN:VEVENT
DTSTART;TZID=America/New_York:20230128T203000
DTEND;TZID=America/New_York:20230128T220000
DTSTAMP:20260421T120755
CREATED:20230123T212812Z
LAST-MODIFIED:20230123T212812Z
UID:144977-1674937800-1674943200@www.pianyc.net
SUMMARY:Juilliard Student Recital: Amelia Sie\, Baroque Violin with Collaborative Piano
DESCRIPTION:Amelia Sie\, Baroque Violin \nVenue\nMorse Hall
URL:https://www.pianyc.net/event/juilliard-student-recital-amelia-sie-baroque-violin-with-collaborative-piano/
LOCATION:Juilliard School\, 155 W 65th St\, Street Level\, New York\, NY\, 10023\, United States
CATEGORIES:Live Musical Performance
ATTACH;FMTTYPE=image/jpeg:https://images.squarespace-cdn.com/content/v1/596bb4e703596e837b624445/1626652898285-VJ8ZLSSX0GDJJN35NRJ7/Sie+Amelia+-+Amelia+Sie.jpg
GEO:40.7769059;-73.9800645
X-APPLE-STRUCTURED-LOCATION;VALUE=URI;X-ADDRESS=Juilliard School 155 W 65th St Street Level New York NY 10023 United States;X-APPLE-RADIUS=500;X-TITLE=155 W 65th St\, Street Level:geo:-73.9800645,40.7769059
END:VEVENT
END:VCALENDAR