BEGIN:VCALENDAR
VERSION:2.0
PRODID:-//PIANYC - ECPv5.12.4//NONSGML v1.0//EN
CALSCALE:GREGORIAN
METHOD:PUBLISH
X-WR-CALNAME:PIANYC
X-ORIGINAL-URL:https://www.pianyc.net
X-WR-CALDESC:Events for PIANYC
BEGIN:VTIMEZONE
TZID:America/New_York
BEGIN:DAYLIGHT
TZOFFSETFROM:-0500
TZOFFSETTO:-0400
TZNAME:EDT
DTSTART:20230312T070000
END:DAYLIGHT
BEGIN:STANDARD
TZOFFSETFROM:-0400
TZOFFSETTO:-0500
TZNAME:EST
DTSTART:20231105T060000
END:STANDARD
END:VTIMEZONE
BEGIN:VEVENT
DTSTART;TZID=America/New_York:20231209T143000
DTEND;TZID=America/New_York:20231209T160000
DTSTAMP:20260420T084250
CREATED:20231113T022101Z
LAST-MODIFIED:20231113T022101Z
UID:157331-1702132200-1702137600@www.pianyc.net
SUMMARY:Juilliard Pre-College Recital: Laura Jin\, Violin with Collaborative Piano
DESCRIPTION:Laura Jin\, Violin\nPre-College Student Recital \nVenue\nPaul Hall
URL:https://www.pianyc.net/event/juilliard-pre-college-recital-laura-jin-violin-with-collaborative-piano/
LOCATION:Juilliard School\, 155 W 65th St\, Street Level\, New York\, NY\, 10023\, United States
CATEGORIES:Live Musical Performance
ATTACH;FMTTYPE=image/jpeg:https://www.hfm-weimar.de/fileadmin/_processed_/1/2/csm_I_Jin_Laura_privat_49203f2c03.jpg
GEO:40.7769059;-73.9800645
X-APPLE-STRUCTURED-LOCATION;VALUE=URI;X-ADDRESS=Juilliard School 155 W 65th St Street Level New York NY 10023 United States;X-APPLE-RADIUS=500;X-TITLE=155 W 65th St\, Street Level:geo:-73.9800645,40.7769059
END:VEVENT
END:VCALENDAR