BEGIN:VCALENDAR
VERSION:2.0
PRODID:-//PIANYC - ECPv5.12.4//NONSGML v1.0//EN
CALSCALE:GREGORIAN
METHOD:PUBLISH
X-WR-CALNAME:PIANYC
X-ORIGINAL-URL:https://www.pianyc.net
X-WR-CALDESC:Events for PIANYC
BEGIN:VTIMEZONE
TZID:America/New_York
BEGIN:DAYLIGHT
TZOFFSETFROM:-0500
TZOFFSETTO:-0400
TZNAME:EDT
DTSTART:20240310T070000
END:DAYLIGHT
BEGIN:STANDARD
TZOFFSETFROM:-0400
TZOFFSETTO:-0500
TZNAME:EST
DTSTART:20241103T060000
END:STANDARD
END:VTIMEZONE
BEGIN:VEVENT
DTSTART;TZID=America/New_York:20240511T113000
DTEND;TZID=America/New_York:20240511T130000
DTSTAMP:20260419T084231
CREATED:20231218T025612Z
LAST-MODIFIED:20231226T220014Z
UID:158677-1715427000-1715432400@www.pianyc.net
SUMMARY:Juilliard Pre-College Recital: James Liu\, Tuba with Collaborative Piano
DESCRIPTION:James Liu\, Tuba\nPre-College Student Recital \nVenue\nPaul Hall
URL:https://www.pianyc.net/event/juilliard-pre-college-recital-james-liu-tuba-with-collaborative-piano/
LOCATION:Juilliard School\, 155 W 65th St\, Street Level\, New York\, NY\, 10023\, United States
CATEGORIES:Live Musical Performance
ATTACH;FMTTYPE=image/jpeg:https://shsmaroon.org/wp-content/uploads/2022/05/fa31deb3cd404b4c90cc7affe330aa6b.jpeg
GEO:40.7769059;-73.9800645
X-APPLE-STRUCTURED-LOCATION;VALUE=URI;X-ADDRESS=Juilliard School 155 W 65th St Street Level New York NY 10023 United States;X-APPLE-RADIUS=500;X-TITLE=155 W 65th St\, Street Level:geo:-73.9800645,40.7769059
END:VEVENT
END:VCALENDAR