BEGIN:VCALENDAR
VERSION:2.0
PRODID:-//PIANYC - ECPv5.12.4//NONSGML v1.0//EN
CALSCALE:GREGORIAN
METHOD:PUBLISH
X-WR-CALNAME:PIANYC
X-ORIGINAL-URL:https://www.pianyc.net
X-WR-CALDESC:Events for PIANYC
BEGIN:VTIMEZONE
TZID:America/New_York
BEGIN:DAYLIGHT
TZOFFSETFROM:-0500
TZOFFSETTO:-0400
TZNAME:EDT
DTSTART:20240310T070000
END:DAYLIGHT
BEGIN:STANDARD
TZOFFSETFROM:-0400
TZOFFSETTO:-0500
TZNAME:EST
DTSTART:20241103T060000
END:STANDARD
END:VTIMEZONE
BEGIN:VEVENT
DTSTART;TZID=America/New_York:20241202T193000
DTEND;TZID=America/New_York:20241202T210000
DTSTAMP:20260421T211114
CREATED:20240815T170911Z
LAST-MODIFIED:20241129T023955Z
UID:169834-1733167800-1733173200@www.pianyc.net
SUMMARY:Nina Bernat\, Double Bass and Umi Garrett\, Piano\, at Carnegie Hall
DESCRIPTION:Leo B. Ruiz Memorial Recital \nPerformers\nNina Bernat\, Double Bass (2024 Ruiz Award Recipient)\nUmi Garrett\, Piano \nProgram\nPROKOFIEV Five Melodies\nSofia GUBAIDULINA Pantomime\nJ.S. BACH Sonata for Viola da Gamba No. 3 in G Minor\, BWV 1029\nShinuh LEE 섬집아기 [seomjib-agi] (World premiere\, commissioned by Juilliard)\nMENDELSSOHN Sonata No. 2 in D Major \n 
URL:https://www.pianyc.net/event/juilliard-leo-b-ruiz-memorial-recital-at-carnegie-hall/
LOCATION:Carnegie Hall\, 881 Seventh Avenue\, New York\, NY\, 10019\, United States
CATEGORIES:Live Musical Performance
ATTACH;FMTTYPE=image/jpeg:https://www.pianyc.net/wp-content/uploads/2024/08/Juilliard__B_Ruiz_Memorial_Recital_SPd6rqnw.jpg
GEO:40.764938;-73.979897
X-APPLE-STRUCTURED-LOCATION;VALUE=URI;X-ADDRESS=Carnegie Hall 881 Seventh Avenue New York NY 10019 United States;X-APPLE-RADIUS=500;X-TITLE=881 Seventh Avenue:geo:-73.979897,40.764938
END:VEVENT
END:VCALENDAR