BEGIN:VCALENDAR
VERSION:2.0
PRODID:-//PIANYC - ECPv5.12.4//NONSGML v1.0//EN
CALSCALE:GREGORIAN
METHOD:PUBLISH
X-WR-CALNAME:PIANYC
X-ORIGINAL-URL:https://www.pianyc.net
X-WR-CALDESC:Events for PIANYC
BEGIN:VTIMEZONE
TZID:America/New_York
BEGIN:DAYLIGHT
TZOFFSETFROM:-0500
TZOFFSETTO:-0400
TZNAME:EDT
DTSTART:20240310T070000
END:DAYLIGHT
BEGIN:STANDARD
TZOFFSETFROM:-0400
TZOFFSETTO:-0500
TZNAME:EST
DTSTART:20241103T060000
END:STANDARD
END:VTIMEZONE
BEGIN:VEVENT
DTSTART;TZID=America/New_York:20240409T193000
DTEND;TZID=America/New_York:20240409T210000
DTSTAMP:20260421T114153
CREATED:20240302T144727Z
LAST-MODIFIED:20240324T201236Z
UID:161527-1712691000-1712696400@www.pianyc.net
SUMMARY:Juilliard Jazz Ensembles\, at Juilliard School
DESCRIPTION:Juilliard Jazz Ensembles | The Music of Hazel Scott and Ginger Smock \nProgram \nJuilliard Jazz Ensembles \nDuke Ellington Ensemble\nPatrick Hill\, Alto Saxophone\nDabin Ryu\, Piano\nDerek Duleba\, Guitar\nGuillermo Lopez\, Bass\nJerome Gillespie\, Drums \nDave Brubeck Ensemble\nJack Towse\, Trumpet\nSion Song\, Alto Saxophone\nDaniel Cohen\, Tenor Saxophone\nIlai MacAggi\, Trombone\nBruce Acosta\, Guitar\nHolly Bean\, Piano\nCaylen Bryant\, Bass\nHank Allen-Barfield\, Drums \nWatch the performance on this page at the scheduled date and time. This performance won’t be available to stream afterward on demand. \nLead Digital Sponsor: Bloomberg Philanthropies \nJuilliard LIVE was launched in 2021 under the leadership of President Damian Woetzel\, dramatically expanding access for audiences around the world to Juilliard performances through livestreams and on-demand video. Juilliard LIVE streams nearly 700 performances each year\, with new on-demand programs regularly added to the accessible library of content. \nJuilliard’s livestream technology is made possible in part by a gift in honor of President Emeritus Joseph W. Polisi\, building on his legacy of broadening Juilliard’s global reach. \nVenue\nPaul Hall \nAdmission \nTickets $25 | Members $12.50
URL:https://www.pianyc.net/event/juilliard-jazz-ensembles-at-juilliard-school-2/
LOCATION:Juilliard School\, 155 W 65th St\, Street Level\, New York\, NY\, 10023\, United States
CATEGORIES:Live Musical Performance
ATTACH;FMTTYPE=image/jpeg:https://www.pianyc.net/wp-content/uploads/2023/09/Juilliard_JazzEnsembles3_Dnm0bbAh.jpg
GEO:40.7769059;-73.9800645
X-APPLE-STRUCTURED-LOCATION;VALUE=URI;X-ADDRESS=Juilliard School 155 W 65th St Street Level New York NY 10023 United States;X-APPLE-RADIUS=500;X-TITLE=155 W 65th St\, Street Level:geo:-73.9800645,40.7769059
END:VEVENT
END:VCALENDAR