BEGIN:VCALENDAR
VERSION:2.0
PRODID:-//PIANYC - ECPv5.12.4//NONSGML v1.0//EN
CALSCALE:GREGORIAN
METHOD:PUBLISH
X-WR-CALNAME:PIANYC
X-ORIGINAL-URL:https://www.pianyc.net
X-WR-CALDESC:Events for PIANYC
BEGIN:VTIMEZONE
TZID:America/New_York
BEGIN:DAYLIGHT
TZOFFSETFROM:-0500
TZOFFSETTO:-0400
TZNAME:EDT
DTSTART:20240310T070000
END:DAYLIGHT
BEGIN:STANDARD
TZOFFSETFROM:-0400
TZOFFSETTO:-0500
TZNAME:EST
DTSTART:20241103T060000
END:STANDARD
END:VTIMEZONE
BEGIN:VEVENT
DTSTART;TZID=America/New_York:20241124T150000
DTEND;TZID=America/New_York:20241124T163000
DTSTAMP:20260422T082300
CREATED:20241104T010405Z
LAST-MODIFIED:20241104T010417Z
UID:173470-1732460400-1732465800@www.pianyc.net
SUMMARY:Juilliard Jazz Ensembles
DESCRIPTION:Juilliard Jazz Ensembles | New Orleans Music: Jelly Roll Morton and Joe King Oliver \nProgram \nDave Brubeck Ensemble\nJennifer Krupa\, Ensemble Coach \nMiles Keingstein\, Trumpet\nAdam Stein\, Alto Saxophone\nAidan McKeon\, Tenor Saxophone\nBlake Slaughter\, Guitar\nHolly Bean\, Piano\nBen Feldman\, Bass\nBeckett Miles\, Drums \nMary Lou Williams Ensemble\nBruce Williams\, Ensemble Coach \nMejedi Owusu\, Trumpet\nMiriam Goroff-Behel\, Alto Saxophone\nEmma Lacy\, Alto Saxophone\nGustavo Cruz\, Tenor Saxophone\nGrace Rock\, Trombone\nBrandon Goldberg\, Piano\nJosé André Montaño\, Piano\nAllison Lee\, Bass\nIsaiah Bravo\, Drums \nWatch the performance on this page at the scheduled date and time. This performance won’t be available to stream afterward on demand. Should you have trouble accessing the stream via this page\, please visit juilliard.live to stream this program. \nLead Digital Sponsor: Bloomberg Philanthropies \nJuilliard LIVE was launched in 2021 under the leadership of President Damian Woetzel\, dramatically expanding access for audiences around the world to Juilliard performances through livestreams and on-demand video. Juilliard LIVE streams nearly 700 performances each year\, with new on-demand programs regularly added to the accessible library of content. \nVenue\nPaul Hall \nAdmission \nTickets $15 | Members $30
URL:https://www.pianyc.net/event/juilliard-jazz-ensembles-2/
LOCATION:Juilliard School\, 155 W 65th St\, Street Level\, New York\, NY\, 10023\, United States
CATEGORIES:Live Musical Performance
ATTACH;FMTTYPE=image/jpeg:https://www.pianyc.net/wp-content/uploads/2024/08/Juilliard_10032023_Jazz_Ensembles_PaulHall_047_AYATfvPS.jpg
GEO:40.7769059;-73.9800645
X-APPLE-STRUCTURED-LOCATION;VALUE=URI;X-ADDRESS=Juilliard School 155 W 65th St Street Level New York NY 10023 United States;X-APPLE-RADIUS=500;X-TITLE=155 W 65th St\, Street Level:geo:-73.9800645,40.7769059
END:VEVENT
END:VCALENDAR