BEGIN:VCALENDAR
VERSION:2.0
PRODID:-//PIANYC - ECPv5.12.4//NONSGML v1.0//EN
CALSCALE:GREGORIAN
METHOD:PUBLISH
X-WR-CALNAME:PIANYC
X-ORIGINAL-URL:https://www.pianyc.net
X-WR-CALDESC:Events for PIANYC
BEGIN:VTIMEZONE
TZID:America/New_York
BEGIN:DAYLIGHT
TZOFFSETFROM:-0500
TZOFFSETTO:-0400
TZNAME:EDT
DTSTART:20220313T070000
END:DAYLIGHT
BEGIN:STANDARD
TZOFFSETFROM:-0400
TZOFFSETTO:-0500
TZNAME:EST
DTSTART:20221106T060000
END:STANDARD
END:VTIMEZONE
BEGIN:VEVENT
DTSTART;TZID=America/New_York:20221210T193000
DTEND;TZID=America/New_York:20221210T210000
DTSTAMP:20260423T070451
CREATED:20220829T195351Z
LAST-MODIFIED:20220829T195351Z
UID:135834-1670700600-1670706000@www.pianyc.net
SUMMARY:Juilliard AXIOM\, at Lincoln Center
DESCRIPTION:AXIOM \nProgram \nJeffrey Milarsky\, Music Director \nHINDEMITH Kammermusik No. 1\nJordyn GALLINEK New Work\nTAKEMITSU Nostalghia\nSCHOENBERG (after Monn) Cello Concerto \nWatch the performance on this page at the scheduled date and time. This performance won’t be available to stream afterward on demand. \nJuilliard’s livestream technology is made possible by a gift in honor of President Emeritus Joseph W. Polisi\, building on his legacy of broadening Juilliard’s global reach.
URL:https://www.pianyc.net/event/juilliard-axiom-at-lincoln-center/
LOCATION:The Chapel at the Interchurch Center\, 61 Claremont Ave\, New York\, NY\, 10115\, United States
CATEGORIES:Live Musical Performance
ATTACH;FMTTYPE=image/jpeg:https://www.pianyc.net/wp-content/uploads/2022/08/Juilliard_20211029_AXIOM_Concert_0059_1_0pkPnFJe.jpg
GEO:40.7127753;-74.0059728
X-APPLE-STRUCTURED-LOCATION;VALUE=URI;X-ADDRESS=The Chapel at the Interchurch Center 61 Claremont Ave New York NY 10115 United States;X-APPLE-RADIUS=500;X-TITLE=61 Claremont Ave:geo:-74.0059728,40.7127753
END:VEVENT
END:VCALENDAR