BEGIN:VCALENDAR
VERSION:2.0
PRODID:-//PIANYC - ECPv5.12.4//NONSGML v1.0//EN
CALSCALE:GREGORIAN
METHOD:PUBLISH
X-WR-CALNAME:PIANYC
X-ORIGINAL-URL:https://www.pianyc.net
X-WR-CALDESC:Events for PIANYC
BEGIN:VTIMEZONE
TZID:America/New_York
BEGIN:DAYLIGHT
TZOFFSETFROM:-0500
TZOFFSETTO:-0400
TZNAME:EDT
DTSTART:20250309T070000
END:DAYLIGHT
BEGIN:STANDARD
TZOFFSETFROM:-0400
TZOFFSETTO:-0500
TZNAME:EST
DTSTART:20251102T060000
END:STANDARD
END:VTIMEZONE
BEGIN:VEVENT
DTSTART;TZID=America/New_York:20250325T193000
DTEND;TZID=America/New_York:20250325T210000
DTSTAMP:20260423T122427
CREATED:20241229T020336Z
LAST-MODIFIED:20241229T020336Z
UID:176321-1742931000-1742936400@www.pianyc.net
SUMMARY:Joseph Parrish\, Bass-Baritone with Francesco Barfoed\, Piano at Merkin Hall
DESCRIPTION:Francesco Barfoed\, piano \nThe Peter Jay Sharp Concert\nSongs by GUSTAV MAHLER\, HARRY T. BURLEIGH\, JOHANNES BRAHMS\, MOSES HOGAN\, FRANZ SCHUBERT\, and spirituals featuring the Washington Performing Arts Children of the Gospel Choir with Artistic Director Michele Fowlin\, plus the New York Premiere of Psalm by YCA Composer-in-Residence ALISTAIR COLEMAN. \n“I am interested in exploring the common threads that exist between the folk music of African-American and German people. This program highlights African-American art songs\, German Lieder\, Negro Spirituals and Lieder with spiritual themes\, showcasing these different expressions of our shared humanity.” \n– Joseph Parrish \nJoseph Parrish holds the Lindemann Vocal Chair.
URL:https://www.pianyc.net/event/joseph-parrish-bass-baritone-with-francesco-barfoed-piano-at-merkin-hall/
LOCATION:Merkin Concert Hall at Kaufman Music Center\, 129 W 67th St\, New York\, NY\, 10036\, United States
CATEGORIES:Live Musical Performance
ATTACH;FMTTYPE=image/jpeg:https://www.kaufmanmusiccenter.org/images/uploads/events/_medium/Joseph_Parrish_1200x1200_-_Shervin_Lainez.jpg
GEO:40.7752368;-73.9830916
X-APPLE-STRUCTURED-LOCATION;VALUE=URI;X-ADDRESS=Merkin Concert Hall at Kaufman Music Center 129 W 67th St New York NY 10036 United States;X-APPLE-RADIUS=500;X-TITLE=129 W 67th St:geo:-73.9830916,40.7752368
END:VEVENT
END:VCALENDAR