BEGIN:VCALENDAR
VERSION:2.0
PRODID:-//PIANYC - ECPv5.12.4//NONSGML v1.0//EN
CALSCALE:GREGORIAN
METHOD:PUBLISH
X-WR-CALNAME:PIANYC
X-ORIGINAL-URL:https://www.pianyc.net
X-WR-CALDESC:Events for PIANYC
BEGIN:VTIMEZONE
TZID:America/New_York
BEGIN:DAYLIGHT
TZOFFSETFROM:-0500
TZOFFSETTO:-0400
TZNAME:EDT
DTSTART:20260308T070000
END:DAYLIGHT
BEGIN:STANDARD
TZOFFSETFROM:-0400
TZOFFSETTO:-0500
TZNAME:EST
DTSTART:20261101T060000
END:STANDARD
END:VTIMEZONE
BEGIN:VEVENT
DTSTART;TZID=America/New_York:20260207T193000
DTEND;TZID=America/New_York:20260207T210000
DTSTAMP:20260421T070021
CREATED:20251205T020332Z
LAST-MODIFIED:20251205T020332Z
UID:193760-1770492600-1770498000@www.pianyc.net
SUMMARY:John Medeski\, Piano and Kirk Knuffke\, Cornet: The Angelic Brothers at Miller Theatre at Columbia University
DESCRIPTION:Legendary keyboardist John Medeski and acclaimed cornetist Kirk Knuffke join forces as The Angelic Brothers\, a masterful collaboration that mixes jazz\, experimental sounds\, and improvisation—drawing inspiration from the visionary work of the Sun Ra Arkestra. Their first Miller appearance promises an electrifying fusion of craft and invention.
URL:https://www.pianyc.net/event/john-medeski-piano-and-kirk-knuffke-cornet-the-angelic-brothers-at-miller-theatre-at-columbia-university/
LOCATION:Miller Theatre at Columbia University\, 2960 Broadway\, New York\, NY\, 10027\, United States
ATTACH;FMTTYPE=image/jpeg:https://millertheatre.s3.amazonaws.com/_960x1446_crop_top-center_100_none/John-Medeski-courtesy-of-the-artist-and-Kirk-Knuffke-by-Ken-Weiss.960x1446.jpg
GEO:40.8079381;-73.9631966
X-APPLE-STRUCTURED-LOCATION;VALUE=URI;X-ADDRESS=Miller Theatre at Columbia University 2960 Broadway New York NY 10027 United States;X-APPLE-RADIUS=500;X-TITLE=2960 Broadway:geo:-73.9631966,40.8079381
END:VEVENT
END:VCALENDAR