BEGIN:VCALENDAR
VERSION:2.0
PRODID:-//PIANYC - ECPv5.12.4//NONSGML v1.0//EN
CALSCALE:GREGORIAN
METHOD:PUBLISH
X-WR-CALNAME:PIANYC
X-ORIGINAL-URL:https://www.pianyc.net
X-WR-CALDESC:Events for PIANYC
BEGIN:VTIMEZONE
TZID:America/New_York
BEGIN:DAYLIGHT
TZOFFSETFROM:-0500
TZOFFSETTO:-0400
TZNAME:EDT
DTSTART:20240310T070000
END:DAYLIGHT
BEGIN:STANDARD
TZOFFSETFROM:-0400
TZOFFSETTO:-0500
TZNAME:EST
DTSTART:20241103T060000
END:STANDARD
END:VTIMEZONE
BEGIN:VEVENT
DTSTART;TZID=America/New_York:20241020T160000
DTEND;TZID=America/New_York:20241020T173000
DTSTAMP:20260420T121308
CREATED:20240920T191604Z
LAST-MODIFIED:20240920T191604Z
UID:171304-1729440000-1729445400@www.pianyc.net
SUMMARY:Joel Sachs: Charles Ives 150th Birthday Concert at Bargemusic
DESCRIPTION:FOR CHARLES IVES ON HIS 150TH BIRTHDAY \nCharles Ives (1874-1954) \nFrom Piano Sonata No. 2\, “Concord Mass. 1840-1860”\nIII. The Alcotts (1912-14)\nIV. Thoreau (1910-1915) \nPiano Sonata No. 1 (1901-1909)\nI. Adagio con moto\nIIa. 1st Verse – Allegro moderato / IIb  2nd Verse – “In the Inn” [allegro)\nIII. Largo –Allegro-Largo\nIVa. [no tempo indication] / IVb. Allegro\nV. Andante Maestoso – meno mosso – Allegro – Andante maestoso \nJoel Sachs\, piano \nTickets: $35
URL:https://www.pianyc.net/event/joel-sachs-charles-ives-150th-birthday-concert-at-bargemusic/
LOCATION:Bargemusic\, 1 Water St.\, Brooklyn\, NY\, 11201\, United States
CATEGORIES:Live Musical Performance
ATTACH;FMTTYPE=image/jpeg:https://music.cuhk.edu.cn/sites/music.prod.dpsite02.cuhk.edu.cn/files/2022-02/Joel%20Sachs.jpg
GEO:40.703195;-73.9947228
X-APPLE-STRUCTURED-LOCATION;VALUE=URI;X-ADDRESS=Bargemusic 1 Water St. Brooklyn NY 11201 United States;X-APPLE-RADIUS=500;X-TITLE=1 Water St.:geo:-73.9947228,40.703195
END:VEVENT
END:VCALENDAR