BEGIN:VCALENDAR
VERSION:2.0
PRODID:-//PIANYC - ECPv5.12.4//NONSGML v1.0//EN
CALSCALE:GREGORIAN
METHOD:PUBLISH
X-WR-CALNAME:PIANYC
X-ORIGINAL-URL:https://www.pianyc.net
X-WR-CALDESC:Events for PIANYC
BEGIN:VTIMEZONE
TZID:America/New_York
BEGIN:DAYLIGHT
TZOFFSETFROM:-0500
TZOFFSETTO:-0400
TZNAME:EDT
DTSTART:20240310T070000
END:DAYLIGHT
BEGIN:STANDARD
TZOFFSETFROM:-0400
TZOFFSETTO:-0500
TZNAME:EST
DTSTART:20241103T060000
END:STANDARD
END:VTIMEZONE
BEGIN:VEVENT
DTSTART;TZID=America/New_York:20240816T123000
DTEND;TZID=America/New_York:20240816T140000
DTSTAMP:20260421T120907
CREATED:20240620T014916Z
LAST-MODIFIED:20240620T014916Z
UID:167705-1723811400-1723816800@www.pianyc.net
SUMMARY:Joel Forrester on the Upper Terrace at Bryant Park
DESCRIPTION:Come on down and swing along with the best ragtime\, stride\, and jazz musicians in town. \nJoel Forrester is the composer of more than 1600 tunes\, a versatile and accomplished jazz pianist\, leader of his own quintet and prolific recording artist. He has performed in an extraordinary diversity of settings – from large ensembles to a duet setting with a tap dancer! His playing draws from stride\, boogie-woogie\, bebop\, trance and what he likes to call ‘salon pieces’ but each composition bears the stamp of this most individual artist.
URL:https://www.pianyc.net/event/joel-forrester-on-the-upper-terrace-at-bryant-park-2/2024-08-16/
LOCATION:Bryant Park\, Upper Terrace\, 36 W 40th St\, New York\, NY\, 10018\, United States
CATEGORIES:Live Musical Performance
ATTACH;FMTTYPE=image/jpeg:https://www.pianyc.net/wp-content/uploads/2024/05/bryant_park_piano.jpg
GEO:40.7527864;-73.9836149
X-APPLE-STRUCTURED-LOCATION;VALUE=URI;X-ADDRESS=Bryant Park Upper Terrace 36 W 40th St New York NY 10018 United States;X-APPLE-RADIUS=500;X-TITLE=36 W 40th St:geo:-73.9836149,40.7527864
END:VEVENT
END:VCALENDAR