BEGIN:VCALENDAR
VERSION:2.0
PRODID:-//PIANYC - ECPv5.12.4//NONSGML v1.0//EN
CALSCALE:GREGORIAN
METHOD:PUBLISH
X-WR-CALNAME:PIANYC
X-ORIGINAL-URL:https://www.pianyc.net
X-WR-CALDESC:Events for PIANYC
BEGIN:VTIMEZONE
TZID:America/New_York
BEGIN:DAYLIGHT
TZOFFSETFROM:-0500
TZOFFSETTO:-0400
TZNAME:EDT
DTSTART:20240310T070000
END:DAYLIGHT
BEGIN:STANDARD
TZOFFSETFROM:-0400
TZOFFSETTO:-0500
TZNAME:EST
DTSTART:20241103T060000
END:STANDARD
END:VTIMEZONE
BEGIN:VEVENT
DTSTART;TZID=America/New_York:20240604T190000
DTEND;TZID=America/New_York:20240604T200000
DTSTAMP:20260422T082622
CREATED:20240526T122856Z
LAST-MODIFIED:20240526T122856Z
UID:166465-1717527600-1717531200@www.pianyc.net
SUMMARY:Jobim's World: Yvonnick Prené & Geoffrey Keezer at Zinc Bar
DESCRIPTION:“A virtuoso harmonica player” —Downbeat \nHarmonic virtuoso Yvonnick Prené and Jazz Piano Wizard Geoffrey Keezer unite on Tuesday\, June 4\, at Zinc Bar to celebrate the music of Brazilian composer Antonio Carlos Jobim from their latest album\, Jobim’s World. \nCatch this enchanting night of jazz piano with showtimes at 7:00 pm & 8:30 pm. Tickets: $30 (early) / $35 (door). Explore more shows at https://www.charlescarlinipresents.com/. \nYvonnick Prené is renowned for his mastery of the harmonica\, Yvonnick Prené brings a unique and soulful touch to every performance. With a career spanning genres\, his artistry captivates audiences worldwide. \nGeoffrey Keezer\, a wizard on the jazz piano\, is celebrated for his virtuosity and innovation. With an illustrious career collaborating with jazz greats\, his performance promises a magical exploration of Jobim’s compositions. \nRefunds are available for cancellations; otherwise\, tickets are non-refundable. Please be punctual\, and inform us of any delays; we can hold your reservation for 15 minutes past the scheduled time. Thank you for your understanding.
URL:https://www.pianyc.net/event/jobims-world-yvonnick-prene-geoffrey-keezer-at-zinc-bar/
LOCATION:Zinc Bar\, 82 West 3rd Street\, New York\, NY\, 10012\, United States
CATEGORIES:Live Musical Performance
ATTACH;FMTTYPE=image/jpeg:https://img.evbuc.com/https%3A%2F%2Fcdn.evbuc.com%2Fimages%2F762562389%2F1704170045453%2F1%2Foriginal.20240508-135913?w=1000&auto=format%2Ccompress&q=75&sharp=10&rect=0%2C0%2C2160%2C1080&s=e34c5d3aa16fe6b7839a1b3707122ae3
GEO:40.7296714;-73.9989913
X-APPLE-STRUCTURED-LOCATION;VALUE=URI;X-ADDRESS=Zinc Bar 82 West 3rd Street New York NY 10012 United States;X-APPLE-RADIUS=500;X-TITLE=82 West 3rd Street:geo:-73.9989913,40.7296714
END:VEVENT
END:VCALENDAR