BEGIN:VCALENDAR
VERSION:2.0
PRODID:-//PIANYC - ECPv5.12.4//NONSGML v1.0//EN
CALSCALE:GREGORIAN
METHOD:PUBLISH
X-WR-CALNAME:PIANYC
X-ORIGINAL-URL:https://www.pianyc.net
X-WR-CALDESC:Events for PIANYC
BEGIN:VTIMEZONE
TZID:America/New_York
BEGIN:DAYLIGHT
TZOFFSETFROM:-0500
TZOFFSETTO:-0400
TZNAME:EDT
DTSTART:20260308T070000
END:DAYLIGHT
BEGIN:STANDARD
TZOFFSETFROM:-0400
TZOFFSETTO:-0500
TZNAME:EST
DTSTART:20261101T060000
END:STANDARD
END:VTIMEZONE
BEGIN:VEVENT
DTSTART;TZID=America/New_York:20260412T163000
DTEND;TZID=America/New_York:20260412T191500
DTSTAMP:20260423T043037
CREATED:20260327T003951Z
LAST-MODIFIED:20260401T103512Z
UID:199181-1776011400-1776021300@www.pianyc.net
SUMMARY:Jim Ridl Quartet at The Django (Early and Late Shows)
DESCRIPTION:Lineup:\nJim Ridl – Piano\nTim Armacost – Saxophone\nTom DiCarlo – Bass\nTim Horner – Drums\nJim Ridl\, a New York City-based jazz pianist\, composer and teacher\, performs and records worldwide with a variety of jazz artists\, including Joe Locke\, Paul Jost\, Dave Liebman\, Tim Armacost and the Mingus Big Band. He is well-known as a “musician’s musician.” Past performance residencies include the 55 Bar and Soapbox Gallery. Jim has 9 recordings of his own\, including two released in 2022: Ask for the Ancient Path and Standards Live. Jim’s 10 year tenure with guitar master Pat Martino included international duet and quartet performances. He is currently on the faculty at New York Jazz Workshop and adjunct faculty at the City College of New York.\n“A veteran pianist who also spent considerable time in the trenches and is now a respected musician’s musician.” – The New Yorker \nThis event is recurring on the following dates:\nSun\, Apr 12 at 04:30 PM\nSun\, Apr 12 at 05:45 PM
URL:https://www.pianyc.net/event/jim-ridl-quartet-at-the-django-early-and-late-shows-3/
LOCATION:The Django\, The Roxy Hotel\, Cellar Level\, 2 6th Ave\, New York\, NY\, 10013\, United States
CATEGORIES:Live Musical Performance
ATTACH;FMTTYPE=image/jpeg:https://encrypted-tbn0.gstatic.com/images?q=tbn:ANd9GcQ3DJk2KXuTibN9U9myC2K1R-JvL7XK2M7vlQ&s
GEO:40.719404;-74.004902
X-APPLE-STRUCTURED-LOCATION;VALUE=URI;X-ADDRESS=The Django The Roxy Hotel Cellar Level 2 6th Ave New York NY 10013 United States;X-APPLE-RADIUS=500;X-TITLE=The Roxy Hotel\, Cellar Level\, 2 6th Ave:geo:-74.004902,40.719404
END:VEVENT
END:VCALENDAR