BEGIN:VCALENDAR
VERSION:2.0
PRODID:-//PIANYC - ECPv5.12.4//NONSGML v1.0//EN
CALSCALE:GREGORIAN
METHOD:PUBLISH
X-WR-CALNAME:PIANYC
X-ORIGINAL-URL:https://www.pianyc.net
X-WR-CALDESC:Events for PIANYC
BEGIN:VTIMEZONE
TZID:America/New_York
BEGIN:DAYLIGHT
TZOFFSETFROM:-0500
TZOFFSETTO:-0400
TZNAME:EDT
DTSTART:20220313T070000
END:DAYLIGHT
BEGIN:STANDARD
TZOFFSETFROM:-0400
TZOFFSETTO:-0500
TZNAME:EST
DTSTART:20221106T060000
END:STANDARD
END:VTIMEZONE
BEGIN:VEVENT
DTSTART;TZID=America/New_York:20220829T213000
DTEND;TZID=America/New_York:20220829T233000
DTSTAMP:20260421T081148
CREATED:20220805T132727Z
LAST-MODIFIED:20220805T132727Z
UID:133853-1661808600-1661815800@www.pianyc.net
SUMMARY:Jim Caruso’s Cast Party\, at Birdland
DESCRIPTION:Jim Caruso’s Cast Party is a wildly popular weekly soirée that has brought a sprinkling of Broadway glitz and urbane wit to the Birdland stage every Monday night since 1993. Cast Party is an extreme open mic and hilariously impromptu variety show that allows the crowd to rub elbows with show biz superstars and up-and-comers\, and even take a turn at the grand piano! The performers are backed by Billy Stritch on piano\, Steve Doyle on bass and Daniel Glass on drums\, and under the watchful eye of Jim Caruso\, serve up jaw-dropping music and general razzle-dazzle.
URL:https://www.pianyc.net/event/jim-carusos-cast-party-at-birdland/
LOCATION:Birdland\, 315 West 44th Street\, New York\, NY\, 10036\, United States
CATEGORIES:Live Musical Performance
ATTACH;FMTTYPE=image/jpeg:https://birdlandjazz.com/wp-content/uploads/2022/06/6301_image.jpg
GEO:40.759194;-73.9898
X-APPLE-STRUCTURED-LOCATION;VALUE=URI;X-ADDRESS=Birdland 315 West 44th Street New York NY 10036 United States;X-APPLE-RADIUS=500;X-TITLE=315 West 44th Street:geo:-73.9898,40.759194
END:VEVENT
END:VCALENDAR