BEGIN:VCALENDAR
VERSION:2.0
PRODID:-//PIANYC - ECPv5.12.4//NONSGML v1.0//EN
CALSCALE:GREGORIAN
METHOD:PUBLISH
X-WR-CALNAME:PIANYC
X-ORIGINAL-URL:https://www.pianyc.net
X-WR-CALDESC:Events for PIANYC
BEGIN:VTIMEZONE
TZID:America/New_York
BEGIN:DAYLIGHT
TZOFFSETFROM:-0500
TZOFFSETTO:-0400
TZNAME:EDT
DTSTART:20250309T070000
END:DAYLIGHT
BEGIN:STANDARD
TZOFFSETFROM:-0400
TZOFFSETTO:-0500
TZNAME:EST
DTSTART:20251102T060000
END:STANDARD
END:VTIMEZONE
BEGIN:VEVENT
DTSTART;TZID=America/New_York:20250626T200000
DTEND;TZID=America/New_York:20250626T200000
DTSTAMP:20260422T140738
CREATED:20250615T181629Z
LAST-MODIFIED:20250716T095156Z
UID:181801-1750968000-1750968000@www.pianyc.net
SUMMARY:Jesus Molina at Blue Note
DESCRIPTION:“Jesus Molina is an extraordinary and wonderful musician\, he never ceases to amaze me every time I hear him play….Selah is a blessing and marks the beginning of a great career for a musician with inexhaustible talent” – Juan Luis Guerra A world-class jazz pianist\, vocalist\, multi-instrumentalist\, and successful online piano tutor\, 27-year-old Jesus Molina is a one-man force of nature\, a Berklee College of Music grad and Latin Grammy Cultural Foundation award winner who has already carved out an impressive career. His brand-new instrumental album Selah – a blessing meaning “praise” or “lift up” – perfectly captures his spiritual approach to music; 10 songs that soar to celestial heights\, featuring Molina on piano and soprano saxophone\, fronting a trio including bassist Guy Bernfeld and drummer Cain Daniel\, two fellow Berklee alumni. Selah will be released on vinyl\, CD and streaming on May 24th via Argentine/Mexican musician Noel Schajris’ independent label Dynamo Productions. From the exotic Middle Eastern overture on the opening title track to the climactic “Out of a Dream\,” which could be the orchestral end credit score to an epic movie\, Selah introduces a major talent who takes cues from such jazz piano greats as Oscar Peterson\, Chick Corea\, Art Tatum\, Errol Garner and Bill Evans\, but has developed his own style on his new release. Jazz legend Hubert Laws provides flute and piccolo solos to the playful Brazilian/Cuban Latin rhythms of “Dear Fall\,” while label owner (and Sin Bandera member) Schajris provides wordless acapella vocals to the dreamy\, hopeful “Soul Journey\,”.
URL:https://www.pianyc.net/event/jesus-molina-at-blue-note/
LOCATION:Blue Note\, 131 W 3rd St\, New York\, NY\, 10012\, United States
CATEGORIES:Live Musical Performance
ATTACH;FMTTYPE=image/jpeg:https://www.bluenotejazz.com/nyc/wp-content/uploads/sites/2/2025/04/JesusM.jpg
GEO:40.7309369;-74.0006335
X-APPLE-STRUCTURED-LOCATION;VALUE=URI;X-ADDRESS=Blue Note 131 W 3rd St New York NY 10012 United States;X-APPLE-RADIUS=500;X-TITLE=131 W 3rd St:geo:-74.0006335,40.7309369
END:VEVENT
END:VCALENDAR