BEGIN:VCALENDAR
VERSION:2.0
PRODID:-//PIANYC - ECPv5.12.4//NONSGML v1.0//EN
CALSCALE:GREGORIAN
METHOD:PUBLISH
X-WR-CALNAME:PIANYC
X-ORIGINAL-URL:https://www.pianyc.net
X-WR-CALDESC:Events for PIANYC
BEGIN:VTIMEZONE
TZID:America/New_York
BEGIN:DAYLIGHT
TZOFFSETFROM:-0500
TZOFFSETTO:-0400
TZNAME:EDT
DTSTART:20240310T070000
END:DAYLIGHT
BEGIN:STANDARD
TZOFFSETFROM:-0400
TZOFFSETTO:-0500
TZNAME:EST
DTSTART:20241103T060000
END:STANDARD
END:VTIMEZONE
BEGIN:VEVENT
DTSTART;TZID=America/New_York:20240823T180000
DTEND;TZID=America/New_York:20240823T193000
DTSTAMP:20260420T101555
CREATED:20240816T013016Z
LAST-MODIFIED:20240816T013016Z
UID:170105-1724436000-1724441400@www.pianyc.net
SUMMARY:Jeffrey Swann Performs All 32 Beethoven Piano Sonatas with Commentary / Program 5 “The Tragic Voice”\, at Bargemusic
DESCRIPTION:Sonata in D minor\, Op 31 No. 2 (“Tempest”)\nSonata in F minor\, Op. 57 (“Appassionata”)\nSonata in C minor\, Op. 13 (“Pathétique”)\nSonata in A-flat major\, Op. 110 \nJeffrey Swann\, piano \nTickets: $35
URL:https://www.pianyc.net/event/jeffrey-swann-performs-all-32-beethoven-piano-sonatas-with-commentary-program-5-the-tragic-voice-at-bargemusic/
LOCATION:Bargemusic\, 1 Water St.\, Brooklyn\, NY\, 11201\, United States
CATEGORIES:Live Musical Performance
ATTACH;FMTTYPE=image/jpeg:https://www.pianyc.net/wp-content/uploads/2024/02/46217-jeffrey-swann-calendar.jpg
GEO:40.703195;-73.9947228
X-APPLE-STRUCTURED-LOCATION;VALUE=URI;X-ADDRESS=Bargemusic 1 Water St. Brooklyn NY 11201 United States;X-APPLE-RADIUS=500;X-TITLE=1 Water St.:geo:-73.9947228,40.703195
END:VEVENT
END:VCALENDAR