BEGIN:VCALENDAR
VERSION:2.0
PRODID:-//PIANYC - ECPv5.12.4//NONSGML v1.0//EN
CALSCALE:GREGORIAN
METHOD:PUBLISH
X-WR-CALNAME:PIANYC
X-ORIGINAL-URL:https://www.pianyc.net
X-WR-CALDESC:Events for PIANYC
BEGIN:VTIMEZONE
TZID:America/New_York
BEGIN:DAYLIGHT
TZOFFSETFROM:-0500
TZOFFSETTO:-0400
TZNAME:EDT
DTSTART:20250309T070000
END:DAYLIGHT
BEGIN:STANDARD
TZOFFSETFROM:-0400
TZOFFSETTO:-0500
TZNAME:EST
DTSTART:20251102T060000
END:STANDARD
END:VTIMEZONE
BEGIN:VEVENT
DTSTART;TZID=America/New_York:20250622T140000
DTEND;TZID=America/New_York:20250622T153000
DTSTAMP:20260420T085811
CREATED:20250622T003153Z
LAST-MODIFIED:20250622T003153Z
UID:182333-1750600800-1750606200@www.pianyc.net
SUMMARY:Jeffrey Solow\, Cello and Doris Stevenson\, Piano at Bargemusic
DESCRIPTION:Joseph Haydn Divertimento    (arr. Piatigorsky) \nRobert Schumann Fantasistücke\, op. 73 \nFelix Mendelssohn Lied ohne Worte\, Op. 109 \nPeter Tchaikovsky  \nNocturne\, op. 19 No. 4\nPezzo Capriccioso\, op. 62 \nCamille Saint-Saens  \nAllegro Appassionato\, op. 43 \nCellokonzert No 1 in A minor\, op. 33 \nwith  \nJeffrey Solow\, cello \nDoris Stevenson\, piano
URL:https://www.pianyc.net/event/jeffrey-solow-cello-and-doris-stevenson-piano-at-bargemusic/
LOCATION:Bargemusic\, 1 Water St.\, Brooklyn\, NY\, 11201\, United States
CATEGORIES:Live Musical Performance
ATTACH;FMTTYPE=image/jpeg:https://boyer.temple.edu/sites/boyer/files/tu-people/J.%20Solow%20by%20Patrick%20Snook.jpg
GEO:40.703195;-73.9947228
X-APPLE-STRUCTURED-LOCATION;VALUE=URI;X-ADDRESS=Bargemusic 1 Water St. Brooklyn NY 11201 United States;X-APPLE-RADIUS=500;X-TITLE=1 Water St.:geo:-73.9947228,40.703195
END:VEVENT
END:VCALENDAR