BEGIN:VCALENDAR
VERSION:2.0
PRODID:-//PIANYC - ECPv5.12.4//NONSGML v1.0//EN
CALSCALE:GREGORIAN
METHOD:PUBLISH
X-WR-CALNAME:PIANYC
X-ORIGINAL-URL:https://www.pianyc.net
X-WR-CALDESC:Events for PIANYC
BEGIN:VTIMEZONE
TZID:America/New_York
BEGIN:DAYLIGHT
TZOFFSETFROM:-0500
TZOFFSETTO:-0400
TZNAME:EDT
DTSTART:20250309T070000
END:DAYLIGHT
BEGIN:STANDARD
TZOFFSETFROM:-0400
TZOFFSETTO:-0500
TZNAME:EST
DTSTART:20251102T060000
END:STANDARD
END:VTIMEZONE
BEGIN:VEVENT
DTSTART;TZID=America/New_York:20251019T170000
DTEND;TZID=America/New_York:20251019T180000
DTSTAMP:20260423T012512
CREATED:20250919T183200Z
LAST-MODIFIED:20251009T234044Z
UID:188287-1760893200-1760896800@www.pianyc.net
SUMMARY:Jazz Vespers: Harvie S\, Jack Glottman\, Willie Martinez\, at Saint Peter's Church
DESCRIPTION:NYC’s unique Jazz Prayer Service.\nSundays at 5 since 1965. All are welcome. Free to attend!\n\nThis week\, we welcome…\n\nHarvie S (bass)\nJack Glottman (piano)\nWillie Martinez (drums)
URL:https://www.pianyc.net/event/jazz-vespers-harvie-s-jack-glottman-willie-martinez-at-saint-peters-church/
LOCATION:Saint Peter’s Church\, 619 Lexington Avenue\, New York\, NY\, 10022\, United States
CATEGORIES:Live Musical Performance
ATTACH;FMTTYPE=image/jpeg:https://cdn.evbuc.com/images/1114744853/181870069803/1/original.20250904-211323
GEO:40.7585654;-73.9703834
X-APPLE-STRUCTURED-LOCATION;VALUE=URI;X-ADDRESS=Saint Peter’s Church 619 Lexington Avenue New York NY 10022 United States;X-APPLE-RADIUS=500;X-TITLE=619 Lexington Avenue:geo:-73.9703834,40.7585654
END:VEVENT
END:VCALENDAR