BEGIN:VCALENDAR
VERSION:2.0
PRODID:-//PIANYC - ECPv5.12.4//NONSGML v1.0//EN
CALSCALE:GREGORIAN
METHOD:PUBLISH
X-WR-CALNAME:PIANYC
X-ORIGINAL-URL:https://www.pianyc.net
X-WR-CALDESC:Events for PIANYC
BEGIN:VTIMEZONE
TZID:America/New_York
BEGIN:DAYLIGHT
TZOFFSETFROM:-0500
TZOFFSETTO:-0400
TZNAME:EDT
DTSTART:20240310T070000
END:DAYLIGHT
BEGIN:STANDARD
TZOFFSETFROM:-0400
TZOFFSETTO:-0500
TZNAME:EST
DTSTART:20241103T060000
END:STANDARD
END:VTIMEZONE
BEGIN:VEVENT
DTSTART;TZID=America/New_York:20241121T193000
DTEND;TZID=America/New_York:20241121T210000
DTSTAMP:20260420T120234
CREATED:20241103T164939Z
LAST-MODIFIED:20241103T164939Z
UID:173302-1732217400-1732222800@www.pianyc.net
SUMMARY:Jazz Jams Directed by Pianist and Bandleader James Austin\, at NJPAC
DESCRIPTION:Join at NJPAC’s monthly Jazz Jam Sessions\, featuring top-flight NJ musicians directed by pianist and bandleader\, James Austin\, Jr. This series is co-presented by NJPAC’s Jazz Advisory Committee and Rutgers Institute for Jazz Studies. Immerse yourself in the relaxing sounds of jazz music that stimulate the player’s and listeners’ minds. All novice and seasoned jazz musicians and singers are welcomed to jam and improv with the professional band throughout the night. \nCo-Producers: Wayne Winborne\, Executive Director\, IFJS and Eyesha Marable\, AVP\, Comm Engagement\, NJPAC.
URL:https://www.pianyc.net/event/jazz-jams-directed-by-pianist-and-bandleader-james-austin-at-njpac/
LOCATION:New Jersey Performing Arts Center\, 1 Center St\, Newark\, NJ\, 07102\, United States
CATEGORIES:Live Musical Performance,Playing Opportunity
ATTACH;FMTTYPE=image/jpeg:https://www.njpac.org/wp-content/uploads/2022/05/800x600_JazzJams_onsale6.jpg
GEO:40.7401103;-74.1673925
X-APPLE-STRUCTURED-LOCATION;VALUE=URI;X-ADDRESS=New Jersey Performing Arts Center 1 Center St Newark NJ 07102 United States;X-APPLE-RADIUS=500;X-TITLE=1 Center St:geo:-74.1673925,40.7401103
END:VEVENT
END:VCALENDAR