BEGIN:VCALENDAR
VERSION:2.0
PRODID:-//PIANYC - ECPv5.12.4//NONSGML v1.0//EN
CALSCALE:GREGORIAN
METHOD:PUBLISH
X-WR-CALNAME:PIANYC
X-ORIGINAL-URL:https://www.pianyc.net
X-WR-CALDESC:Events for PIANYC
BEGIN:VTIMEZONE
TZID:America/New_York
BEGIN:DAYLIGHT
TZOFFSETFROM:-0500
TZOFFSETTO:-0400
TZNAME:EDT
DTSTART:20230312T070000
END:DAYLIGHT
BEGIN:STANDARD
TZOFFSETFROM:-0400
TZOFFSETTO:-0500
TZNAME:EST
DTSTART:20231105T060000
END:STANDARD
END:VTIMEZONE
BEGIN:VEVENT
DTSTART;TZID=America/New_York:20230807T200000
DTEND;TZID=America/New_York:20230807T200000
DTSTAMP:20260422T064531
CREATED:20230719T120241Z
LAST-MODIFIED:20230719T120241Z
UID:151884-1691438400-1691438400@www.pianyc.net
SUMMARY:James Francies Trio with Logan Richardson at Blue Note Jazz Club
DESCRIPTION:Plenty of young musicians show promise\, but very few enjoy the sort of meteoric rise that pianist\, keyboardist and composer James Francies is currently experiencing. At only 24\, he’s played with jazz headliners like Pat Metheny\, Chris Potter\, Jeff “Tain” Watts\, Stefon Harris\, Eric Harland\, and Terrace Martin\, and racked up equally impressive credits in hip-hop and R&B: from shows with Ms. Lauryn Hill\, José James\, Common\, and NAS\, to studio time for Chance the Rapper’s Grammy-winning hit “No Problem”\, Mark Ronson \, Childish Gambino\, YEBBA\, Drake\, and Kodak Black\, to appearances with The Roots on The Tonight Show Starring Jimmy Fallon alongside his mentor and friend Questlove. \nNow comes Flight\, the extraordinary debut album that welcomes Francies into the storied Blue Note Records family and finds him melding his jazz mastery and pop experience on 11 searching\, engaging tracks. But as bold and new as this moment might seem for Francies\, it’s also a homecoming\, in more ways than one. Francies\, like his Blue Note predecessors Robert Glasper\, Jason Moran\, Chris Dave and Kendrick Scott\, is a proud Houstonite and a graduate of that city’s High School for the Performing and Visual Arts (HSPVA)\, one of the nation’s most reliable incubators for era-defining jazz talent. “Just to follow in their footsteps\, let alone in the footsteps of Herbie Hancock\, Bud Powell and all of these other artists who recorded for the label\, it’s an honor\,” Francies says. “And there’s a responsibility that comes with it too.”
URL:https://www.pianyc.net/event/james-francies-trio-with-logan-richardson-at-blue-note-jazz-club/2023-08-07/
LOCATION:Blue Note\, 131 W 3rd St\, New York\, NY\, 10012\, United States
CATEGORIES:Live Musical Performance
ATTACH;FMTTYPE=:
GEO:40.7309369;-74.0006335
X-APPLE-STRUCTURED-LOCATION;VALUE=URI;X-ADDRESS=Blue Note 131 W 3rd St New York NY 10012 United States;X-APPLE-RADIUS=500;X-TITLE=131 W 3rd St:geo:-74.0006335,40.7309369
END:VEVENT
END:VCALENDAR