BEGIN:VCALENDAR
VERSION:2.0
PRODID:-//PIANYC - ECPv5.12.4//NONSGML v1.0//EN
CALSCALE:GREGORIAN
METHOD:PUBLISH
X-WR-CALNAME:PIANYC
X-ORIGINAL-URL:https://www.pianyc.net
X-WR-CALDESC:Events for PIANYC
BEGIN:VTIMEZONE
TZID:America/New_York
BEGIN:DAYLIGHT
TZOFFSETFROM:-0500
TZOFFSETTO:-0400
TZNAME:EDT
DTSTART:20240310T070000
END:DAYLIGHT
BEGIN:STANDARD
TZOFFSETFROM:-0400
TZOFFSETTO:-0500
TZNAME:EST
DTSTART:20241103T060000
END:STANDARD
END:VTIMEZONE
BEGIN:VEVENT
DTSTART;TZID=America/New_York:20241214T190000
DTEND;TZID=America/New_York:20241214T230000
DTSTAMP:20260420T101417
CREATED:20241213T021857Z
LAST-MODIFIED:20241213T021857Z
UID:175243-1734202800-1734217200@www.pianyc.net
SUMMARY:J.C. Hopkins Biggish Band at Minton's Playhouse
DESCRIPTION:Join on Saturday December 14th for an incredible live music experience featuring the J.C. Hopkins Biggish Band at the famous Minton’s Playhouse in Harlem\, NYC. \nAbout the artist: \n“JC Hopkins is a Grammy nominated songwriter\, producer and leader of the world renowned JC Hopkins Biggish Band. The Biggish Band has featured some of the most important vocalists in the history of modern music including Elvis Costello\, Norah Jones\, Jon Hendricks\, Andy Bey\, Jazzmeia Horn\, Madeleine Peyroux and many more. \nAs a songwriter his compositions have been covered by many artists including Willie Nelson and Norah Jones who recorded his song “Dreams Come True” which was nominated for a Grammy. He has produced a number of albums including the Grammy nominated children’s album of Tin Pan Alley songs\, “Sunny Side of the Street” for actor John Lithgow.” \n“But Minton’s was full and thriving in the current boom\, and the house band that night was JC Hopkins’ Biggish Band. So with Hopkins at the piano\, the band swung and bopped behind three wonderful vocalists through the Billie Holiday songbook\, including superb readings of “God Bless the Child” and “What a Little Moonlight Can Do”. Music created in another age that remains as affecting today must be regarded as serious art\, and that was what I heard at Minton’s that night.” — FINANCIAL TIMES “A JAZZ THEMED TOUR OF NEW YORK” \n“At Minton’s\, you’re part of the choir. There’s this part in “Moanin'” where—not in the original version but in this one\, arranged by JC Hopkins and which his band\, JC Hopkins’ Biggish Band\, plays—the horn section shouts out\, call-and-response style. This night\, we get in on it\, too. Bum be de BOMP. HEY! Be dop bop be da BOMP. HEY! Bum be de BOMP. HEY! And it’s not anger any longer\, but joy.” — ESQUIRE MAGAZINE \nMark your calendars and get ready for a night of unforgettable melodies!
URL:https://www.pianyc.net/event/j-c-hopkins-biggish-band-at-mintons-playhouse/
LOCATION:The Chapel at the Interchurch Center\, 61 Claremont Ave\, New York\, NY\, 10115\, United States
CATEGORIES:Live Musical Performance
ATTACH;FMTTYPE=image/jpeg:https://img.evbuc.com/https%3A%2F%2Fcdn.evbuc.com%2Fimages%2F881157203%2F1948385248513%2F1%2Foriginal.20241023-001653?crop=focalpoint&fit=crop&w=1000&auto=format%2Ccompress&q=75&sharp=10&fp-x=0.508495809038&fp-y=0.153696498054&s=fb0c65a2c4e96c670f616feeb58235a6
GEO:40.7127753;-74.0059728
X-APPLE-STRUCTURED-LOCATION;VALUE=URI;X-ADDRESS=The Chapel at the Interchurch Center 61 Claremont Ave New York NY 10115 United States;X-APPLE-RADIUS=500;X-TITLE=61 Claremont Ave:geo:-74.0059728,40.7127753
END:VEVENT
END:VCALENDAR