BEGIN:VCALENDAR
VERSION:2.0
PRODID:-//PIANYC - ECPv5.12.4//NONSGML v1.0//EN
CALSCALE:GREGORIAN
METHOD:PUBLISH
X-WR-CALNAME:PIANYC
X-ORIGINAL-URL:https://www.pianyc.net
X-WR-CALDESC:Events for PIANYC
BEGIN:VTIMEZONE
TZID:America/New_York
BEGIN:DAYLIGHT
TZOFFSETFROM:-0500
TZOFFSETTO:-0400
TZNAME:EDT
DTSTART:20240310T070000
END:DAYLIGHT
BEGIN:STANDARD
TZOFFSETFROM:-0400
TZOFFSETTO:-0500
TZNAME:EST
DTSTART:20241103T060000
END:STANDARD
END:VTIMEZONE
BEGIN:VEVENT
DTSTART;TZID=America/New_York:20241102T160000
DTEND;TZID=America/New_York:20241102T173000
DTSTAMP:20260420T083332
CREATED:20240926T022140Z
LAST-MODIFIED:20240926T022140Z
UID:171312-1730563200-1730568600@www.pianyc.net
SUMMARY:Italian Piano Music Festival: Alessandro Riccardi\, Piano\, at Bargemusic
DESCRIPTION:Gran Francesco Malipiero Preludi Autunnali;\n3 Omaggi (I. A un pappagallo II. A un elefante\nIII. A un idiota); 6 Marceaux; Maschere che passano \n\n\n\n\n\n\n\n\n\n\n Alessandro Riccardi\, piano  \n\nTickets: $35
URL:https://www.pianyc.net/event/italian-piano-music-festival-alessandro-riccardi-piano-at-bargemusic/
LOCATION:Bargemusic\, 1 Water St.\, Brooklyn\, NY\, 11201\, United States
CATEGORIES:Live Musical Performance
ATTACH;FMTTYPE=image/jpeg:https://www.pianyc.net/wp-content/uploads/2024/09/Alessandro-Riccardi-Piano.jpg
GEO:40.703195;-73.9947228
X-APPLE-STRUCTURED-LOCATION;VALUE=URI;X-ADDRESS=Bargemusic 1 Water St. Brooklyn NY 11201 United States;X-APPLE-RADIUS=500;X-TITLE=1 Water St.:geo:-73.9947228,40.703195
END:VEVENT
END:VCALENDAR