BEGIN:VCALENDAR
VERSION:2.0
PRODID:-//PIANYC - ECPv5.12.4//NONSGML v1.0//EN
CALSCALE:GREGORIAN
METHOD:PUBLISH
X-WR-CALNAME:PIANYC
X-ORIGINAL-URL:https://www.pianyc.net
X-WR-CALDESC:Events for PIANYC
BEGIN:VTIMEZONE
TZID:America/New_York
BEGIN:DAYLIGHT
TZOFFSETFROM:-0500
TZOFFSETTO:-0400
TZNAME:EDT
DTSTART:20240310T070000
END:DAYLIGHT
BEGIN:STANDARD
TZOFFSETFROM:-0400
TZOFFSETTO:-0500
TZNAME:EST
DTSTART:20241103T060000
END:STANDARD
END:VTIMEZONE
BEGIN:VEVENT
DTSTART;TZID=America/New_York:20240702T123000
DTEND;TZID=America/New_York:20240702T140000
DTSTAMP:20260420T115357
CREATED:20240620T013511Z
LAST-MODIFIED:20240620T013836Z
UID:167657-1719923400-1719928800@www.pianyc.net
SUMMARY:Isaac ben Ayala on the Upper Terrace at Bryant Park
DESCRIPTION:Come on down and swing along with the best ragtime\, stride\, and jazz musicians in town. \nIsaac ben Ayala has performed and recorded with many notable bands and greats – from Quincy Jones\, Ray Charles\, Louis Bellson\, Leon Thomas\, Frank Foster\, David Murray\, James Spaulding\, Roy Hargrove\, and Wynton Marsalis\, to the New York City Ballet\, The Sultans of Swing\, The Donald Byrd Dance Company and Joe Piscipo. He has scored numerous films and can be heard on the piano in Dave Chappelle’s Block Party (2006)\, Evening (2007) with actresses Meryl Streep and Glenn Close\, The Mark Twain Prize Honors – Billy Crystal (2007)\, Bill Cosby (2009)\, Carol Burnett (2013)\, and Denzel Washington’s The Great Debaters (2008). In addition\, he was the pre-show solo pianist and show pianist for the Apollo Club in Harlem’s show featuring Maurice Hines (2014 & 2015). His orchestral arrangement\, commissioned by the Preservation Hall Jazz Band\, of Basin Street Blues (2006)\, was premiered at The Kennedy Center by The National Pops Orchestra with Marvin Hamlisch as Conductor and is currently being performed by orchestras around the world. Alongside David Berger’s Sultans of Swing Big Band\, Isaac was featured in an extended onstage piano solo performance throughout Susan Stroman’s NYC Ballet debut of For The Love of Duke (Lincoln Center\, NYC).
URL:https://www.pianyc.net/event/isaac-ben-ayala-on-the-upper-terrace-at-bryant-park/2024-07-02/
LOCATION:Bryant Park\, Upper Terrace\, 36 W 40th St\, New York\, NY\, 10018\, United States
CATEGORIES:Live Musical Performance
ATTACH;FMTTYPE=image/jpeg:https://www.pianyc.net/wp-content/uploads/2024/05/bryant_park_piano.jpg
GEO:40.7527864;-73.9836149
X-APPLE-STRUCTURED-LOCATION;VALUE=URI;X-ADDRESS=Bryant Park Upper Terrace 36 W 40th St New York NY 10018 United States;X-APPLE-RADIUS=500;X-TITLE=36 W 40th St:geo:-73.9836149,40.7527864
END:VEVENT
END:VCALENDAR