BEGIN:VCALENDAR
VERSION:2.0
PRODID:-//PIANYC - ECPv5.12.4//NONSGML v1.0//EN
CALSCALE:GREGORIAN
METHOD:PUBLISH
X-WR-CALNAME:PIANYC
X-ORIGINAL-URL:https://www.pianyc.net
X-WR-CALDESC:Events for PIANYC
BEGIN:VTIMEZONE
TZID:America/New_York
BEGIN:DAYLIGHT
TZOFFSETFROM:-0500
TZOFFSETTO:-0400
TZNAME:EDT
DTSTART:20240310T070000
END:DAYLIGHT
BEGIN:STANDARD
TZOFFSETFROM:-0400
TZOFFSETTO:-0500
TZNAME:EST
DTSTART:20241103T060000
END:STANDARD
END:VTIMEZONE
BEGIN:VEVENT
DTSTART;TZID=America/New_York:20240211T110000
DTEND;TZID=America/New_York:20240211T130000
DTSTAMP:20260420T102149
CREATED:20240128T211831Z
LAST-MODIFIED:20240128T223812Z
UID:160289-1707649200-1707656400@www.pianyc.net
SUMMARY:Instrument Discovery Day for Kids\, at Bloomingdale School of Music
DESCRIPTION:Instrument Discovery Day \nJoin for an exciting day of exploring different musical instruments at Bloomingdale School of Music! Whether you’re a beginner or an experienced musician\, this in-person event is perfect for anyone interested in discovering new sounds and expanding their musical horizons. \nYou will get to try guitar\, trumpet\, flute\, voice\, piano\, percussion\, clarinet\, violin and cello. Our talented instructors will be on hand to guide you through the basics of each instrument\, helping you find the one that resonates with you the most. All ages welcome. \nThis event is free and open to the public. Please reserve a spot to participate \n 
URL:https://www.pianyc.net/event/instrument-discovery-day-at-bloomingdale-school-of-music/
LOCATION:Bloomingdale School of Music\, 323 West 108th Street\, New York\, NY\, 10025\, United States
CATEGORIES:Physical Activity
ATTACH;FMTTYPE=image/jpeg:https://img.evbuc.com/https%3A%2F%2Fcdn.evbuc.com%2Fimages%2F671011339%2F318126593309%2F1%2Foriginal.20240109-211657?w=1000&auto=format%2Ccompress&q=75&sharp=10&rect=0%2C0%2C2160%2C1080&s=f57a34dbb1a827424ad27aaeb4f63dd6
GEO:40.8034365;-73.9682451
X-APPLE-STRUCTURED-LOCATION;VALUE=URI;X-ADDRESS=Bloomingdale School of Music 323 West 108th Street New York NY 10025 United States;X-APPLE-RADIUS=500;X-TITLE=323 West 108th Street:geo:-73.9682451,40.8034365
END:VEVENT
END:VCALENDAR