BEGIN:VCALENDAR
VERSION:2.0
PRODID:-//PIANYC - ECPv5.12.4//NONSGML v1.0//EN
CALSCALE:GREGORIAN
METHOD:PUBLISH
X-WR-CALNAME:PIANYC
X-ORIGINAL-URL:https://www.pianyc.net
X-WR-CALDESC:Events for PIANYC
BEGIN:VTIMEZONE
TZID:America/New_York
BEGIN:DAYLIGHT
TZOFFSETFROM:-0500
TZOFFSETTO:-0400
TZNAME:EDT
DTSTART:20250309T070000
END:DAYLIGHT
BEGIN:STANDARD
TZOFFSETFROM:-0400
TZOFFSETTO:-0500
TZNAME:EST
DTSTART:20251102T060000
END:STANDARD
END:VTIMEZONE
BEGIN:VEVENT
DTSTART;TZID=America/New_York:20250622T180000
DTEND;TZID=America/New_York:20250622T190000
DTSTAMP:20260420T085002
CREATED:20250616T021950Z
LAST-MODIFIED:20250621T174047Z
UID:181831-1750615200-1750618800@www.pianyc.net
SUMMARY:Off-Broadway Singer/Songwriter ASSATA at Brooklyn Music Kitchen
DESCRIPTION:InspiredWordNYC Presents Off-Broadway Singer/Songwriter ASSATA at the state-of-the-art Brooklyn Music Kitchen in the heart of Clinton Hill\, BK. \n$15 cover includes a 10% off food/drink ticket. \nAll ages. \nBio:\nASSATA is an 18-year-old Off-Broadway singer/songwriter/music producer from Long Island who has graced the stage of the iconic Triad Theater\, where Lady Gaga made her professional debut. She plays piano and guitar\, and has been interested in music since she was very young as well as performing in showcases and plays. “I am looking to put my mark on the music industry and share my passion for music with everyone\,” she says. \nIf you can’t make it in person\, please feel free to use the DONATION option to support. \nProduced by the famous InspiredWordNYC series\, https://inspiredwordnyc.com/ \nRefunds up to 24 hours before the event. \nSUBWAY LINE – G to Clinton-Washington Avenue
URL:https://www.pianyc.net/event/inspiredwordnyc-presents-off-broadway-singer-songwriter-assata-at-bmk-at-brooklyn-music-kitchen/
LOCATION:Brooklyn Music Kitchen\, 177 Vanderbilt Avenue\, New York\, NY\, United States
CATEGORIES:Live Musical Performance
ATTACH;FMTTYPE=image/jpeg:https://img.evbuc.com/https%3A%2F%2Fcdn.evbuc.com%2Fimages%2F1019936903%2F9603379361%2F1%2Foriginal.20250430-100634?w=1000&auto=format%2Ccompress&q=75&sharp=10&s=161c7e7ecfdceaade3a50e8e6956c95c
GEO:40.6926476;-73.9694738
X-APPLE-STRUCTURED-LOCATION;VALUE=URI;X-ADDRESS=Brooklyn Music Kitchen 177 Vanderbilt Avenue New York NY United States;X-APPLE-RADIUS=500;X-TITLE=177 Vanderbilt Avenue:geo:-73.9694738,40.6926476
END:VEVENT
END:VCALENDAR