BEGIN:VCALENDAR
VERSION:2.0
PRODID:-//PIANYC - ECPv5.12.4//NONSGML v1.0//EN
CALSCALE:GREGORIAN
METHOD:PUBLISH
X-WR-CALNAME:PIANYC
X-ORIGINAL-URL:https://www.pianyc.net
X-WR-CALDESC:Events for PIANYC
BEGIN:VTIMEZONE
TZID:America/New_York
BEGIN:DAYLIGHT
TZOFFSETFROM:-0500
TZOFFSETTO:-0400
TZNAME:EDT
DTSTART:20230312T070000
END:DAYLIGHT
BEGIN:STANDARD
TZOFFSETFROM:-0400
TZOFFSETTO:-0500
TZNAME:EST
DTSTART:20231105T060000
END:STANDARD
END:VTIMEZONE
BEGIN:VEVENT
DTSTART;TZID=America/New_York:20231128T200000
DTEND;TZID=America/New_York:20231128T213000
DTSTAMP:20260420T110358
CREATED:20230819T195819Z
LAST-MODIFIED:20230819T195819Z
UID:153377-1701201600-1701207000@www.pianyc.net
SUMMARY:IMPA Musical Celebration of the Life of Rafael Viñoly at Carnegie Hall
DESCRIPTION:Performers\nThe Philadelphia Orchestra\nYannick Nézet-Séguin\, Music and Artistic Director\nItzhak Perlman\, Violin\nJonathan Biss\, Piano\nMusicians from Jazz at Lincoln Center \nFeaturing The Philadephia Orchestra\, led by Music and Artistic Director Yannick Nézet-Séguin\, The Viñoly Foundation presents a performance honoring the life and work of Rafael Viñoly\, the distinguished Uruguayan architect who died in March of 2023. The event also marks the launch of the Foundation and its aims to enhance the practice of architecture. Guest appearances by Itzhak Perlman\, Jonathan Biss and musicians from Jazz at Lincoln Center. \n 
URL:https://www.pianyc.net/event/impa-musical-celebration-of-the-life-of-rafael-vinoly-at-carnegie-hall/
LOCATION:Carnegie Hall\, 881 Seventh Avenue\, New York\, NY\, 10019\, United States
CATEGORIES:Live Musical Performance
ATTACH;FMTTYPE=image/jpeg:https://carnegiehall.imgix.net:443/-/media/CarnegieHall/Images/Events/2023-2024-Rentals/vinoly.jpg
GEO:40.764938;-73.979897
X-APPLE-STRUCTURED-LOCATION;VALUE=URI;X-ADDRESS=Carnegie Hall 881 Seventh Avenue New York NY 10019 United States;X-APPLE-RADIUS=500;X-TITLE=881 Seventh Avenue:geo:-73.979897,40.764938
END:VEVENT
END:VCALENDAR