BEGIN:VCALENDAR
VERSION:2.0
PRODID:-//PIANYC - ECPv5.12.4//NONSGML v1.0//EN
CALSCALE:GREGORIAN
METHOD:PUBLISH
X-WR-CALNAME:PIANYC
X-ORIGINAL-URL:https://www.pianyc.net
X-WR-CALDESC:Events for PIANYC
BEGIN:VTIMEZONE
TZID:America/New_York
BEGIN:DAYLIGHT
TZOFFSETFROM:-0500
TZOFFSETTO:-0400
TZNAME:EDT
DTSTART:20230312T070000
END:DAYLIGHT
BEGIN:STANDARD
TZOFFSETFROM:-0400
TZOFFSETTO:-0500
TZNAME:EST
DTSTART:20231105T060000
END:STANDARD
END:VTIMEZONE
BEGIN:VEVENT
DTSTART;TZID=America/New_York:20230218T160000
DTEND;TZID=America/New_York:20230218T173000
DTSTAMP:20260420T052837
CREATED:20221226T193201Z
LAST-MODIFIED:20221226T193201Z
UID:143793-1676736000-1676741400@www.pianyc.net
SUMMARY:IMAS 9th Annual Talented Young Musician Olympia Winners’ Concert\, at Merkin Hall
DESCRIPTION:The International Music & Arts Society (IMAS) is an international global non-profit that promotes the advancement of musical and cultural relationships between teachers and students from all over the world.\nThe art troupe comprises different musical and artistic talents to ensure a spectacular show\, ranging from the piano to ensembles and string instrument performances. Every year\, the organization hosts various workshops\, master classes\, Annual Winners’ Virtual Concerts and performance opportunities in New York. \n 
URL:https://www.pianyc.net/event/imas-9th-annual-talented-young-musician-olympia-winners-concert-at-merkin-hall-2/
LOCATION:Merkin Concert Hall at Kaufman Music Center\, 129 W 67th St\, New York\, NY\, 10036\, United States
CATEGORIES:Live Musical Performance
ATTACH;FMTTYPE=image/jpeg:https://www.kaufmanmusiccenter.org/images/uploads/events/_medium/Placeholder_1200x1200.jpg
GEO:40.7752368;-73.9830916
X-APPLE-STRUCTURED-LOCATION;VALUE=URI;X-ADDRESS=Merkin Concert Hall at Kaufman Music Center 129 W 67th St New York NY 10036 United States;X-APPLE-RADIUS=500;X-TITLE=129 W 67th St:geo:-73.9830916,40.7752368
END:VEVENT
END:VCALENDAR