BEGIN:VCALENDAR
VERSION:2.0
PRODID:-//PIANYC - ECPv5.12.4//NONSGML v1.0//EN
CALSCALE:GREGORIAN
METHOD:PUBLISH
X-WR-CALNAME:PIANYC
X-ORIGINAL-URL:https://www.pianyc.net
X-WR-CALDESC:Events for PIANYC
BEGIN:VTIMEZONE
TZID:America/New_York
BEGIN:DAYLIGHT
TZOFFSETFROM:-0500
TZOFFSETTO:-0400
TZNAME:EDT
DTSTART:20250309T070000
END:DAYLIGHT
BEGIN:STANDARD
TZOFFSETFROM:-0400
TZOFFSETTO:-0500
TZNAME:EST
DTSTART:20251102T060000
END:STANDARD
END:VTIMEZONE
BEGIN:VEVENT
DTSTART;TZID=America/New_York:20250709T200000
DTEND;TZID=America/New_York:20250709T213000
DTSTAMP:20260422T082449
CREATED:20250620T222201Z
LAST-MODIFIED:20250621T135446Z
UID:182036-1752091200-1752096600@www.pianyc.net
SUMMARY:IKIF Masters Series Concert: Julian Pflugmann at Merkin Hall
DESCRIPTION:Performer\nJulian Pflugmann \nProgram\nBrahms: Sonata No. I in C Major\, Op. I\nBrahms: Sonata No. 2 in F-sharp minor\, Op. 2\nBrahms: Sonata No. 3 in F minor\, Op. 5 \nJulian Pflugmann\, born in 1994 in Frankfurt\, Germany\, spent his early childhood there. At the age of seven he moved with his family from Frankfurt to Shenyang\, China\, where he began his professional career as a pianist. He received regular piano lessons at the conservatory with Professor Danwen Wei. \nHe studied in Berlin with Prof. Fabio Bidini\, and at the Hanover University of Music\, Drama and Media. He received a full scholarship from the Mannes School of Music and completed his master’s degree with Prof. Jerome Rose. Julian Pflugmann returned to Germany in 2019 and continued his studies at the Detmold University of Music with Prof. Elena Margolina-Hait\, graduating in February 2022. \nMr. Pflugmann has participated in masterclasses in Europe and America\, including\, in Utrecht with Prof. Jerome Rose and at IKIF with Philippe Entremont. As a solo pianist\, he has performed with the Pilsen Philharmonic and the Dortmund Philharmonic. \nThe International Keyboard Institute and Festival (IKIF) is an annual event held in New York City that celebrates piano music and performance. It offers a platform for both established artists and emerging talents. \nPhoto Credit: Kaufman Music Center
URL:https://www.pianyc.net/event/ikif-masters-series-concert-julian-pflugmann-at-merkin-hall/
LOCATION:Merkin Concert Hall at Kaufman Music Center\, 129 W 67th St\, New York\, NY\, 10036\, United States
CATEGORIES:Live Musical Performance
ATTACH;FMTTYPE=image/jpeg:https://www.kaufmanmusiccenter.org/images/uploads/events/_medium/20250709_IKIF_Julian_Pflugmann_1200x1200.jpg
ORGANIZER;CN="International%20Keyboard%20Institute%20and%20Festival":MAILTO:info at ikif.org
GEO:40.7752368;-73.9830916
X-APPLE-STRUCTURED-LOCATION;VALUE=URI;X-ADDRESS=Merkin Concert Hall at Kaufman Music Center 129 W 67th St New York NY 10036 United States;X-APPLE-RADIUS=500;X-TITLE=129 W 67th St:geo:-73.9830916,40.7752368
END:VEVENT
END:VCALENDAR