BEGIN:VCALENDAR
VERSION:2.0
PRODID:-//PIANYC - ECPv5.12.4//NONSGML v1.0//EN
CALSCALE:GREGORIAN
METHOD:PUBLISH
X-WR-CALNAME:PIANYC
X-ORIGINAL-URL:https://www.pianyc.net
X-WR-CALDESC:Events for PIANYC
BEGIN:VTIMEZONE
TZID:America/New_York
BEGIN:DAYLIGHT
TZOFFSETFROM:-0500
TZOFFSETTO:-0400
TZNAME:EDT
DTSTART:20230312T070000
END:DAYLIGHT
BEGIN:STANDARD
TZOFFSETFROM:-0400
TZOFFSETTO:-0500
TZNAME:EST
DTSTART:20231105T060000
END:STANDARD
END:VTIMEZONE
BEGIN:VEVENT
DTSTART;TZID=America/New_York:20230524T190000
DTEND;TZID=America/New_York:20230524T220000
DTSTAMP:20260421T065551
CREATED:20230521T000703Z
LAST-MODIFIED:20230521T000703Z
UID:149814-1684954800-1684965600@www.pianyc.net
SUMMARY:Hungarian Emerging Artists Concert Series at Consulate General of Hungary
DESCRIPTION:The Liszt Institute New York is excited and absolutely thrilled to announce the launch of a brand new concert series featuring up-and-coming Hungarian musical talents who are in some way connected to the United States. Hungary has been historically known as a country that gave the world several unique musical geniuses such as Ferenc Liszt\, Béla Bartók and Zoltán Kodály. The goal of the Hungarian Emerging Artists concert series is to turn the spotlight on those award-winning\, gifted Hungarian musicians who are currently present in the United States and provide them with an opportunity to show their talents to a wider range of audiences. \nThe concert series also aims to bring classical music out of its categorization as „elite” and present it literally in a new light with the use of atmospheric\, colorful lights. \nIn the debut event of the concert series we are delighted to showcase two excellent Hungarian classical musicians\, who are currently pursuing their degrees at the prestigious Bard Conservatory of Music in upstate New York. \nARRIVAL AND STANDING RECEPTION: 6:30PM \nCONCERT: 7PM \n  \nABOUT THE ARTISTS \nDávid Kéringer – Clarinetist \nBorn in Budapest\, Hungary\, Dávid Kéringer is a versatile clarinet\, saxophone\, and recorder player with notable international experience. He received a Bachelor of Music from Franz Liszt Academy of Music Budapest in clarinet performance. After he graduated from the University of Music Vienna\, he won a Fulbright Scholarship for postgraduate studies in the Advanced Performance Studies Program at Bard College Conservatory of Music. As a soloist\, he has played in Hungary\, Austria\, Italy\, and Japan. In addition to performing on Hungarian TV’s “Virtuosos”\, he is a regular performer with symphony orchestras\, theater\, and musical productions. He is the absolute winner of the Danubia Talents Vienna Competition 2020 in the Winds category. \nViktória Sarkadi – Pianist \nViktória Sarkadi is a Hungarian collaborative pianist. She has earned her bachelor’s and master’s degree in performance at The Royal Conservatoire of Scotland (RCS)\, and upon graduating\, she became Collaborative Pianist at The University of Edinburgh’s music department. As a chamber musician\, she has performed in venues across Europe and the UK\, and is regularly appearing in competitions alongside singers and instrumentalists\, as well as in special events\, notably\, a celebratory concert for Classic FM’s 25th anniversary in the presence of HRH King Charles\, and Members of the Parliament’s visit to The RCS. She has worked with the charity organization Live Music Now\, aiming to bring live music to people of vulnerable groups\, including people in hospitals\, hospices\, care homes. She is passionate about making music accessible outside of traditional spaces. From 2019\, she is co-artistic director and chamber music coach of the Allegro Summer School in Hungary\, an annual short course introducing the early experiences of chamber music to children aged 9-18. Viktoria is currently in her first year as Collaborative Piano Fellow at Bard Conservatory. \nThe event is free but registration is required!
URL:https://www.pianyc.net/event/hungarian-emerging-artists-concert-series-at-consulate-general-of-hungary/
LOCATION:Consulate General of Hungary\, 223 East 52nd St\, New York\, NY\, 10022\, United States
CATEGORIES:Live Musical Performance
ATTACH;FMTTYPE=image/jpeg:https://img.evbuc.com/https%3A%2F%2Fcdn.evbuc.com%2Fimages%2F506664939%2F54815223288%2F1%2Foriginal.20230503-144000?w=1000&auto=format%2Ccompress&q=75&sharp=10&rect=0%2C0%2C1920%2C960&s=e986ba570b64c01e8d425ffa4bec7ae4
GEO:40.7568069;-73.9686348
X-APPLE-STRUCTURED-LOCATION;VALUE=URI;X-ADDRESS=Consulate General of Hungary 223 East 52nd St New York NY 10022 United States;X-APPLE-RADIUS=500;X-TITLE=223 East 52nd St:geo:-73.9686348,40.7568069
END:VEVENT
END:VCALENDAR