BEGIN:VCALENDAR
VERSION:2.0
PRODID:-//PIANYC - ECPv5.12.4//NONSGML v1.0//EN
CALSCALE:GREGORIAN
METHOD:PUBLISH
X-WR-CALNAME:PIANYC
X-ORIGINAL-URL:https://www.pianyc.net
X-WR-CALDESC:Events for PIANYC
BEGIN:VTIMEZONE
TZID:America/New_York
BEGIN:DAYLIGHT
TZOFFSETFROM:-0500
TZOFFSETTO:-0400
TZNAME:EDT
DTSTART:20240310T070000
END:DAYLIGHT
BEGIN:STANDARD
TZOFFSETFROM:-0400
TZOFFSETTO:-0500
TZNAME:EST
DTSTART:20241103T060000
END:STANDARD
END:VTIMEZONE
BEGIN:VEVENT
DTSTART;TZID=America/New_York:20241215T160000
DTEND;TZID=America/New_York:20241215T183000
DTSTAMP:20260421T050212
CREATED:20241213T022348Z
LAST-MODIFIED:20241213T022354Z
UID:175247-1734278400-1734287400@www.pianyc.net
SUMMARY:Hot Club Jazz Holiday Party: Records and Live Piano at Big Wrench Piano Care
DESCRIPTION:A Jazz Holiday Party! \nEnjoy the season in style at the Jazz Holiday Party hosted by the Hot Club of New York and Big Wrench Piano Care. Featuring a selection of vintage jazz records followed by a live piano performance by Anthony Pearlman\, this event is sure warm the soul and move the spirit. \nWhether you’re a seasoned jazz enthusiast or just dipping your toes into the genre\, this event is perfect for you. Come and enjoy the warm ambiance\, good company\, and rich sound of 78rpm records as we celebrate this timeless music. Don’t miss out on this unique experience! \nAnthony Pearlman is a pianist\, composer\, and improviser who has had the fortune of being guided by master musicians Reggie Workman and Andrew Cyrille. He regularly plays at notable venues locally and abroad. \nThe Hot Club of New York is a group of jazz enthusiasts who listen to original shellac 78rpm jazz records from the 1920s-1950s. The goal of this group is to make the beauty and history of jazz accessible to all. \nBig Wrench Piano Care is a small\, craft-oriented piano sales\, tuning and repair service catering to the needs of piano owners and musicians on every scale. The Big Wrench shop is a musical haven. \nLocation: Big Wrench Piano Care \n264 Hoyt St\, Brooklyn\, NY \nA$25 suggested donation gets you hours of music and as much wine and snacks as you want! The best deal in town!
URL:https://www.pianyc.net/event/hot-club-jazz-holiday-party-records-and-live-piano-at-big-wrench-piano-care/
LOCATION:Big Wrench Piano Care\, 264 Hoyt St\, Brooklyn\, NY\, 11217\, United States
CATEGORIES:Live Musical Performance
ATTACH;FMTTYPE=image/jpeg:https://img.evbuc.com/https%3A%2F%2Fcdn.evbuc.com%2Fimages%2F912358983%2F306134983545%2F1%2Foriginal.20241205-174501?crop=focalpoint&fit=crop&w=1000&auto=format%2Ccompress&q=75&sharp=10&fp-x=1.0&fp-y=0.248344370861&s=db276e8b511f2d76368073947671af4e
GEO:40.6822162;-73.9909687
X-APPLE-STRUCTURED-LOCATION;VALUE=URI;X-ADDRESS=Big Wrench Piano Care 264 Hoyt St Brooklyn NY 11217 United States;X-APPLE-RADIUS=500;X-TITLE=264 Hoyt St:geo:-73.9909687,40.6822162
END:VEVENT
END:VCALENDAR