BEGIN:VCALENDAR
VERSION:2.0
PRODID:-//PIANYC - ECPv5.12.4//NONSGML v1.0//EN
CALSCALE:GREGORIAN
METHOD:PUBLISH
X-WR-CALNAME:PIANYC
X-ORIGINAL-URL:https://www.pianyc.net
X-WR-CALDESC:Events for PIANYC
BEGIN:VTIMEZONE
TZID:America/New_York
BEGIN:DAYLIGHT
TZOFFSETFROM:-0500
TZOFFSETTO:-0400
TZNAME:EDT
DTSTART:20230312T070000
END:DAYLIGHT
BEGIN:STANDARD
TZOFFSETFROM:-0400
TZOFFSETTO:-0500
TZNAME:EST
DTSTART:20231105T060000
END:STANDARD
END:VTIMEZONE
BEGIN:VEVENT
DTSTART;TZID=America/New_York:20230213T193000
DTEND;TZID=America/New_York:20230213T210000
DTSTAMP:20260420T091209
CREATED:20230130T095922Z
LAST-MODIFIED:20230130T095922Z
UID:144828-1676316600-1676322000@www.pianyc.net
SUMMARY:Hidenobu Sato\, Baritone and Hiroko Anno\, Piano at Carnegie Hall
DESCRIPTION:Performers\nHidenobu Sato\, Baritone\nHiroko Anno\, Piano \nBaritone vocalist Hidenobu Sato makes his Weill Recital Hall at Carnegie Hall debut with a highly personalized take on classical songs by Japanese composers. Grounded in rigorous training in traditional Japanese song augmented by lengthy opera study in Italy\, Sato’s performance will feature a repertory of Taisho and Showa-era classics rarely performed in the West. \nProgram\nWorks by Kousaku Yamada\, Kouzaburo Hirai\, Tadasi Hattori\, Yosinao Nakata\, Bekku Sadao\, Dan Ikuma\, and Takada Saburo
URL:https://www.pianyc.net/event/hidenobu-sato-baritone-and-hiroko-anno-piano-at-carnegie-hall/
LOCATION:Carnegie Hall\, 881 Seventh Avenue\, New York\, NY\, 10019\, United States
CATEGORIES:Live Musical Performance
ATTACH;FMTTYPE=image/jpeg:https://carnegiehall.imgix.net:443/-/media/CarnegieHall/Images/Events/2022-2023-Rentals/sato-hidenobu.jpg
GEO:40.764938;-73.979897
X-APPLE-STRUCTURED-LOCATION;VALUE=URI;X-ADDRESS=Carnegie Hall 881 Seventh Avenue New York NY 10019 United States;X-APPLE-RADIUS=500;X-TITLE=881 Seventh Avenue:geo:-73.979897,40.764938
END:VEVENT
END:VCALENDAR