BEGIN:VCALENDAR
VERSION:2.0
PRODID:-//PIANYC - ECPv5.12.4//NONSGML v1.0//EN
CALSCALE:GREGORIAN
METHOD:PUBLISH
X-WR-CALNAME:PIANYC
X-ORIGINAL-URL:https://www.pianyc.net
X-WR-CALDESC:Events for PIANYC
BEGIN:VTIMEZONE
TZID:America/New_York
BEGIN:DAYLIGHT
TZOFFSETFROM:-0500
TZOFFSETTO:-0400
TZNAME:EDT
DTSTART:20250309T070000
END:DAYLIGHT
BEGIN:STANDARD
TZOFFSETFROM:-0400
TZOFFSETTO:-0500
TZNAME:EST
DTSTART:20251102T060000
END:STANDARD
END:VTIMEZONE
BEGIN:VEVENT
DTSTART;TZID=America/New_York:20251014T193000
DTEND;TZID=America/New_York:20251014T223000
DTSTAMP:20260420T103107
CREATED:20250917T160908Z
LAST-MODIFIED:20250928T152937Z
UID:188128-1760470200-1760481000@www.pianyc.net
SUMMARY:Hector Martignon Trio at The Django (Early and Late Shows)
DESCRIPTION:Acclaimed Colombian pianist and composer Hector Martignon returns with his electrifying trio. Two of Martignon’s albums have been nominated for Grammy Awards: “Refugee” (2007) and “Second Chance” (2010). He’s known for crossbreeding the improvisational language of jazz with diverse musical idioms\, such as Classical European\, Latin American folklore and World Music. On its exhibit on Latin Jazz\, the Smithsonian Institution lists Martignon among the leading artists “exploring the regional sources of Latin Jazz”. \nThis event is recurring on the following dates:\nTue\, Oct 14 at 07:30 PM\nTue\, Oct 14 at 09:00 PM
URL:https://www.pianyc.net/event/hector-martignon-trio-at-the-django-early-and-late-shows-2/
LOCATION:The Django\, The Roxy Hotel\, Cellar Level\, 2 6th Ave\, New York\, NY\, 10013\, United States
CATEGORIES:Live Musical Performance
ATTACH;FMTTYPE=image/jpeg:https://www.pianyc.net/wp-content/uploads/2025/09/django_hector-martignon1.jpg
GEO:40.719404;-74.004902
X-APPLE-STRUCTURED-LOCATION;VALUE=URI;X-ADDRESS=The Django The Roxy Hotel Cellar Level 2 6th Ave New York NY 10013 United States;X-APPLE-RADIUS=500;X-TITLE=The Roxy Hotel\, Cellar Level\, 2 6th Ave:geo:-74.004902,40.719404
END:VEVENT
END:VCALENDAR