BEGIN:VCALENDAR
VERSION:2.0
PRODID:-//PIANYC - ECPv5.12.4//NONSGML v1.0//EN
CALSCALE:GREGORIAN
METHOD:PUBLISH
X-WR-CALNAME:PIANYC
X-ORIGINAL-URL:https://www.pianyc.net
X-WR-CALDESC:Events for PIANYC
BEGIN:VTIMEZONE
TZID:America/New_York
BEGIN:DAYLIGHT
TZOFFSETFROM:-0500
TZOFFSETTO:-0400
TZNAME:EDT
DTSTART:20250309T070000
END:DAYLIGHT
BEGIN:STANDARD
TZOFFSETFROM:-0400
TZOFFSETTO:-0500
TZNAME:EST
DTSTART:20251102T060000
END:STANDARD
END:VTIMEZONE
BEGIN:VEVENT
DTSTART;TZID=America/New_York:20251017T190000
DTEND;TZID=America/New_York:20251017T203000
DTSTAMP:20260422T184105
CREATED:20250919T182758Z
LAST-MODIFIED:20251009T233432Z
UID:188281-1760727600-1760733000@www.pianyc.net
SUMMARY:Hayk Arsenyan "Preludes" at St. John's in the Village Episcopal Church
DESCRIPTION:Hayk Arsenyan “Preludes” \nCome join us for an intimate evening of classical music with pianist Hayk Arsenyan as he performs Chopin’s mesmerizing set of 24 Preludes\, as well as a selection of Rachmaninoff’s Preludes op. 32. \nThe event will take place at Saint John’s in the Village\, a charming venue perfect for enjoying beautiful melodies in a cozy setting.
URL:https://www.pianyc.net/event/hayk-arsenyan-preludes-at-st-johns-in-the-village-episcopal-church/
LOCATION:St. John’s in the Village Episcopal Church\, 218 W 11th St\, New York\, NY\, 10014\, United States
CATEGORIES:Live Musical Performance
ATTACH;FMTTYPE=image/jpeg:https://external-content.duckduckgo.com/iu/?u=https%3A%2F%2Fmedia.licdn.com%2Fdms%2Fimage%2Fsync%2FD4E27AQHAkLj7GZokMg%2Farticleshare-shrink_800%2F0%2F1707416589624%3Fe%3D2147483647%26v%3Dbeta%26t%3DTXdQrlrtCh7vYP7MZoUhP-FKh2TNOemnHBblRdkgCOw&f=1&nofb=1&ipt=a68d05bb42e86d048d1d5e676c088f26437ce380e3bbb194b67c5e16d83e9de4
GEO:40.7363047;-74.0021184
X-APPLE-STRUCTURED-LOCATION;VALUE=URI;X-ADDRESS=St. John’s in the Village Episcopal Church 218 W 11th St New York NY 10014 United States;X-APPLE-RADIUS=500;X-TITLE=218 W 11th St:geo:-74.0021184,40.7363047
END:VEVENT
END:VCALENDAR